BEGIN:VCALENDAR
VERSION:2.0
PRODID:-//Katholischer Akademikerverband Ruhr - ECPv6.15.18//NONSGML v1.0//EN
CALSCALE:GREGORIAN
METHOD:PUBLISH
X-ORIGINAL-URL:https://kar.ruhr
X-WR-CALDESC:Veranstaltungen für Katholischer Akademikerverband Ruhr
REFRESH-INTERVAL;VALUE=DURATION:PT1H
X-Robots-Tag:noindex
X-PUBLISHED-TTL:PT1H
BEGIN:VTIMEZONE
TZID:Europe/Berlin
BEGIN:DAYLIGHT
TZOFFSETFROM:+0100
TZOFFSETTO:+0200
TZNAME:CEST
DTSTART:20140330T010000
END:DAYLIGHT
BEGIN:STANDARD
TZOFFSETFROM:+0200
TZOFFSETTO:+0100
TZNAME:CET
DTSTART:20141026T010000
END:STANDARD
BEGIN:DAYLIGHT
TZOFFSETFROM:+0100
TZOFFSETTO:+0200
TZNAME:CEST
DTSTART:20150329T010000
END:DAYLIGHT
BEGIN:STANDARD
TZOFFSETFROM:+0200
TZOFFSETTO:+0100
TZNAME:CET
DTSTART:20151025T010000
END:STANDARD
BEGIN:DAYLIGHT
TZOFFSETFROM:+0100
TZOFFSETTO:+0200
TZNAME:CEST
DTSTART:20160327T010000
END:DAYLIGHT
BEGIN:STANDARD
TZOFFSETFROM:+0200
TZOFFSETTO:+0100
TZNAME:CET
DTSTART:20161030T010000
END:STANDARD
END:VTIMEZONE
BEGIN:VEVENT
DTSTART;TZID=Europe/Berlin:20150409T193000
DTEND;TZID=Europe/Berlin:20150409T193000
DTSTAMP:20260423T224352
CREATED:20150327T111906Z
LAST-MODIFIED:20150409T093510Z
UID:260-1428607800-1428607800@kar.ruhr
SUMMARY:Glaubensgespräch an St. Ignatius
DESCRIPTION:„Was sucht ihr den Lebenden bei den Toten?\nEr ist nicht hier\, sondern ist auferweckt worden.“\nMaria von Magdala ist eine Schlüsselfigur der Ostergeschichte. Sie sucht nach dem verschwundenen Körper Jesu. Michel de Certeau\, französischer Jesuit und Kulturhistoriker\, der auch Papst Franziskus sehr angeregt hat\, sieht in ihr die Gestalt des modernen Mystikers und Gottsuchers. Er fragt sich\, ob die Kirche nicht die Ansage des Körpers Jesu in der Eucharistie – „Das ist mein Leib“ – weithin überhört. Hat sie den „mystischen Leib“ des auferstandenen Herrn nicht zu lange im „Körper“ der Lehrsätze\, der Moralvorschriften und des Kirchenrechts gesehen? Hier gilt die Frage der Engel in ganz neuer Weise: „Was sucht ihr den Lebenden bei den Toten?“ Das aber ist keine Frage an die Geschichte der Vergangenheit. Die Frage ist doch: Wenn „Auferstehung“ „Leben“ heißt\, wo ist der Lebende in der Gegenwart zu finden? Für de Certeau sind Menschen\, die nicht aufhören zu wandern\, weil ihnen etwas fehlt\, und die sich nicht zufrieden geben\, mit dem was sie finden\, Mystiker: Sie suchen den lebendigen Gott. \nDateien\nPlakat \nGlaubensgespräch 4/2015
URL:https://kar.ruhr/aktuelles/glaubensgespraech-an-st-ignatius/
LOCATION:Gemeindesaal An St. Ignatius\, An St. Ignatius 8\, Essen\, 45128\, Deutschland
CATEGORIES:Eigene Veranstaltungen
END:VEVENT
BEGIN:VEVENT
DTSTART;TZID=Europe/Berlin:20150421T200000
DTEND;TZID=Europe/Berlin:20150421T200000
DTSTAMP:20260423T224352
CREATED:20150401T132025Z
LAST-MODIFIED:20150401T134231Z
UID:382-1429646400-1429646400@kar.ruhr
SUMMARY:Abbé Franz Stock
DESCRIPTION:Vortrag: Bischof Dr. Karl-Heinz Wiesemann\, Speyer\nAbbé Franz Stock (*21. September 1904 in Neheim; + 24. Februar 1948 in Paris) war katholischer Priester und während der deutschen Besatzungszeit im Zweiten Weltkrieg Seelsorger der Gefängnisse von Paris und der Hinrichtungsstätte auf dem Mont Valerien. Er gilt als ein Wegbereiter der Deutsch-Französischen Freundschaft. Abbe Franz Stock· ist nicht nur ein Name er Ist ein Programm/8 Nuntius Roncalli\, der spätere Papst Johannes XXIII. sagte dies\, als er die Einsegnung des Toten vomahm. Als 1945 Franz Stocks Gesundheit nach den Kriegsjahren schwer angegriffen war und er in die Heimat hatte zurückkehren können\, nahm er dennoch eine neue Aufgabe an: die Gründung eines Priesterseminars besonderer Art\, in dem deutschsprachige Priester und Seminaristen zusammengeführt werden sollten. Es wurde auf Initiative der französischen Regierung und mit Unterstützung des Apostolischen Nuntius Roncalli\, dem späteren Papst Johannes XXIII. gegründet. Abba Stock wurde gebeten\, dieses Seminar als Regens zu lelten. Am 24. Februar 1948 starb Abbe Franz Stock plötzlich und unerwartet\, noch keine 44 Jahre alt\, gegen 16.00 Uhr im Hospital Cochin in Paris. Der Tod Abbe Stocks durfte in der Presse nicht bekannt gegeben werden\, da er noch immer den Status eines Kriegsgefangenen hatte. Aus diesem Grunde folgte seinem Sarg nur ein knappes Dutzend Menschen. Von der Familie konnte niemand an der Beisetzung teilnehmen\, da sie keine Einreiseeaubnis erhalten hatten. 14. November 2009 eröffnete Hans-Josef Becker\, Erzbischof von Paderbom\, das Seligsprechungsverfahren für Franz Stock.
URL:https://kar.ruhr/aktuelles/abba-franz-stock/
LOCATION:Kloster Stiepel – Auditorium\, Am Varenholt 9\, Bochum\, 44797
CATEGORIES:Netzwerkveranstaltung
END:VEVENT
BEGIN:VEVENT
DTSTART;TZID=Europe/Berlin:20150422T173000
DTEND;TZID=Europe/Berlin:20150422T183000
DTSTAMP:20260423T224352
CREATED:20150402T093240Z
LAST-MODIFIED:20150402T093240Z
UID:415-1429723800-1429727400@kar.ruhr
SUMMARY:Messe
DESCRIPTION:
URL:https://kar.ruhr/aktuelles/messe/
LOCATION:Anbetungskirche\, Burgplatz 2\, Essen\, 45127\, Deutschland
CATEGORIES:Eigene Veranstaltungen
END:VEVENT
BEGIN:VEVENT
DTSTART;TZID=Europe/Berlin:20150422T183000
DTEND;TZID=Europe/Berlin:20150422T183000
DTSTAMP:20260423T224352
CREATED:20150401T132813Z
LAST-MODIFIED:20150402T092531Z
UID:384-1429727400-1429727400@kar.ruhr
SUMMARY:Jahreshauptversammlung
DESCRIPTION:
URL:https://kar.ruhr/aktuelles/jahreshauptversammlung/
CATEGORIES:Eigene Veranstaltungen
END:VEVENT
BEGIN:VEVENT
DTSTART;TZID=Europe/Berlin:20150428T200000
DTEND;TZID=Europe/Berlin:20150428T200000
DTSTAMP:20260423T224352
CREATED:20150317T114136Z
LAST-MODIFIED:20150401T133702Z
UID:196-1430251200-1430251200@kar.ruhr
SUMMARY:DIMENSION DOMORGEL II | "Orgel³ –  Improvisation im Dom"
DESCRIPTION:Prof. Karl Ludwig Kreutz\, Konz/Freiburg\nJan Esra Kuhl\, Freiburg/Köln\nDomorganist Sebastian Küchler-Blessing \nNeun verschlossene Umschläge – drei Organisten – eine Aufgabe: aus dem Moment heraus über drei Themen – ein Lied\, ein Bild\, ein Text – improvisieren\, also spontan und trotzdem formvollendet Musik erfinden. \nDieser freundschaftliche musikalische Wettstreit des zweiten Konzerts von DIMENSION DOMORGEL ist einer alten Kunst gewidmet: Das Spielen “ex tempore”\, also aus dem Moment heraus\, war in früheren Zeiten Rüstzeug eines jeden guten Musikers – Liszt\, Chopin\, Mendelssohn\, Mozart\, Bach waren berühmt für ihr unvorhersehbares\, improvisierendes Musizieren. Im letzten Jahrhundert zunehmend auf Kirchenmusik und Jazz beschränkt\, kommt diese alte Kunst des freien Spielens wieder immer mehr zu Ehren\, und so zeigt auch dieser Abend eindrucksvoll\, wie unterschiedlich Musik entstehen\, klingen und wirken kann. \nAus der Tradition der Freiburger Musikhochschule kommen die drei Musiker: Jan Esra Kuhl\, ausgebildet in Komposition\, Kirchenmusik und Musiktheorie ist wie Domorganist Sebastian Küchler-Blessing Schüler von Prof. Karl Ludwig Kreutz\, sodass dieses Konzert auch ein Gruß der jungen Musiker an ihren ehemaligen Lehrer ist.
URL:https://kar.ruhr/aktuelles/dimension-domorgel-iii-stummfilm-und-orgel/
LOCATION:Hoher Dom zu Essen
CATEGORIES:Netzwerkveranstaltung
END:VEVENT
BEGIN:VEVENT
DTSTART;TZID=Europe/Berlin:20150428T200000
DTEND;TZID=Europe/Berlin:20150428T200000
DTSTAMP:20260423T224352
CREATED:20150401T134434Z
LAST-MODIFIED:20150401T134439Z
UID:388-1430251200-1430251200@kar.ruhr
SUMMARY:Karoly Wojtyla/Johannes Paul II\, ein hierzulande unbekannter Philosoph von europäischem Rang
DESCRIPTION:Vortrag: Dr.Christoph Böhr Trier/Heiligenkreuz\nKarai Wojtyla war ein Philosoph von europäischem Rang. Der Mystiker\, Philosoph\, Priester\, Lyriker und Poet war zugleich der unbeirrbare und unnachgiebige Politiker – der Papst\, der sich seiner Sache sicher war und den Mächtigen die Stirn bot. So wird er auch in Deutschland gesehen – während er jedoch als Philosoph hierzulande bis heute unbekannt geblieben ist. Wojtyla packt den Menschen bei seinen eigenen Erfahrungen\, macht sie aufmerksam auf das\, was sich in ihrem Denken und Fühlen unüberhörbar zu Wort meldet: Die Frage vor allem: Wer bin ich- als Mensch\, wozu bin ich berufen\, was macht meinen Wert und meine Würde aus: allesamt Erfahrungen\, die jeder macht\, wenn er sich selbst begegnet. Gegen alle Spielarten der Leugnung menschlicher Freiheit – durch den Naturalismus\, den Sozialdarwinismus\, den Positivismus – steht Wojtylas Philosophie der Begründung menschlicher Freiheit: sein unerschütterliches Bekenntnis zum Menschen\, der in der Begegnung mit sich selbst zu Einsichten findet\, die ihm eine spirituelle Dimension seiner Existenz eröffnen. Wenn ein Mensch diese Dimension\, die er in sich selbst entdeckt\, verschüttet\, verkürzt er sein Selbstverständnis: Er macht sich kleiner\, als er wirklich ist.
URL:https://kar.ruhr/aktuelles/karoly-wojtylajohannes-paul-ii-ein-hierzulande-unbekannter-philosoph-von-europaeischem-rang/
LOCATION:Kloster Stiepel – Auditorium\, Am Varenholt 9\, Bochum\, 44797
CATEGORIES:Netzwerkveranstaltung
END:VEVENT
END:VCALENDAR