BEGIN:VCALENDAR
VERSION:2.0
PRODID:-//Katholischer Akademikerverband Ruhr - ECPv6.15.18//NONSGML v1.0//EN
CALSCALE:GREGORIAN
METHOD:PUBLISH
X-ORIGINAL-URL:https://kar.ruhr
X-WR-CALDESC:Veranstaltungen für Katholischer Akademikerverband Ruhr
REFRESH-INTERVAL;VALUE=DURATION:PT1H
X-Robots-Tag:noindex
X-PUBLISHED-TTL:PT1H
BEGIN:VTIMEZONE
TZID:Europe/Berlin
BEGIN:DAYLIGHT
TZOFFSETFROM:+0100
TZOFFSETTO:+0200
TZNAME:CEST
DTSTART:20140330T010000
END:DAYLIGHT
BEGIN:STANDARD
TZOFFSETFROM:+0200
TZOFFSETTO:+0100
TZNAME:CET
DTSTART:20141026T010000
END:STANDARD
BEGIN:DAYLIGHT
TZOFFSETFROM:+0100
TZOFFSETTO:+0200
TZNAME:CEST
DTSTART:20150329T010000
END:DAYLIGHT
BEGIN:STANDARD
TZOFFSETFROM:+0200
TZOFFSETTO:+0100
TZNAME:CET
DTSTART:20151025T010000
END:STANDARD
BEGIN:DAYLIGHT
TZOFFSETFROM:+0100
TZOFFSETTO:+0200
TZNAME:CEST
DTSTART:20160327T010000
END:DAYLIGHT
BEGIN:STANDARD
TZOFFSETFROM:+0200
TZOFFSETTO:+0100
TZNAME:CET
DTSTART:20161030T010000
END:STANDARD
END:VTIMEZONE
BEGIN:VEVENT
DTSTART;TZID=Europe/Berlin:20150611T193000
DTEND;TZID=Europe/Berlin:20150611T193000
DTSTAMP:20260423T194401
CREATED:20150513T080935Z
LAST-MODIFIED:20150529T154906Z
UID:454-1434051000-1434051000@kar.ruhr
SUMMARY:Glaubensgespräch an St. Ignatius
DESCRIPTION:Papst Franziskus – wie viel Moral braucht unsere Wirtschaft?\n(mit Klaus Winkelmann)\nIn seinem Apostolischen Schreiben Evangelii gaudium hat Papst Franziskus ein mehrfaches Nein zu den Herausforderungen der heutigen Welt gesprochen: \n\nNein zu einer Wirtschaft der Ausschließung\nNein zur Vergötterung des Geldes.\nNein zu einem Geld\, das regiert\, statt zu dienen\nNein zur sozialen Ungleichheit\, die Gewalt hervorbringt.\n\nZugleich tritt der Papst für ein Denken ein\, das nicht alles nur aus einem zentralen Blickwinkel sieht. Nicht alles kann von Rom aus beurteilt und geregelt werden. Mit Klaus Winkelmann von der KAB Essen fragen wir: Gilt die Sicht des Papstes auch für die deutschen und europäischen Verhältnisse? Was muss sich bei uns ändern? Welche Rolle kann und muss die Kirche im sozialen Umfeld bei uns spielen? \nDATEIEN\nPlakat \nGlaubensgespräch 5/2015
URL:https://kar.ruhr/aktuelles/glaubensgespraech-an-st-ignatius-3/
LOCATION:Gemeindesaal An St. Ignatius\, An St. Ignatius 8\, Essen\, 45128\, Deutschland
CATEGORIES:Eigene Veranstaltungen
ORGANIZER;CN="Katholischer Akademikerverband Ruhr e.V.":MAILTO:marc.hubbert.kar@gmail.com
END:VEVENT
BEGIN:VEVENT
DTSTART;TZID=Europe/Berlin:20150619T190000
DTEND;TZID=Europe/Berlin:20150619T190000
DTSTAMP:20260423T194401
CREATED:20150513T082151Z
LAST-MODIFIED:20150529T155625Z
UID:459-1434740400-1434740400@kar.ruhr
SUMMARY:Kamingespräch in der FFC-Stiftung Essen-Steele
DESCRIPTION:Prof. H. Waldenfels fragt Thomas Kufen\, bis 2011 Landesbeauftragter für Integration: \n„Welche Rolle spielen die Religionen in der Integration“\n  \nDATEIEN\nPlakat
URL:https://kar.ruhr/aktuelles/kamingespraech-in-der-ffc-stiftung-essen-steele/
LOCATION:FFC-Stiftung in Essen-Steele\, Paßstrasse 2\, Essen\, 45276\, Deutschland
CATEGORIES:Eigene Veranstaltungen
ATTACH;FMTTYPE=image/jpeg:https://kar.ruhr/wp-content/uploads/2015/05/1_KAR-Kamigespräch-.jpg
ORGANIZER;CN="Katholischer Akademikerverband Ruhr e.V.":MAILTO:marc.hubbert.kar@gmail.com
END:VEVENT
BEGIN:VEVENT
DTSTART;TZID=Europe/Berlin:20150624T183000
DTEND;TZID=Europe/Berlin:20150624T183000
DTSTAMP:20260423T194401
CREATED:20150401T135203Z
LAST-MODIFIED:20150401T135506Z
UID:391-1435170600-1435170600@kar.ruhr
SUMMARY:Die christlichen Wurzeln der Sozialen Marktwirtschaft
DESCRIPTION:Vortrag: Prof. Dr. Nils Goldschmidt\, Universität Siegen und Vorsitzender der Arbeitsgemeinschaft Soziale Marktwirtschaft\nDen Gründungsv.tern der Sozialen Marktwirtschaft ging es um mehr als eine lediglich effiziente Wirtschaft\, sie zielten zugleich immer auch auf eine menschenwürdige Gesellschaftsordnung. Dieses Erbe wiederzuentdecken\, ist gerade in Zeiten der Finanz- und Wirtschaftskrise dringend geboten. Zugleich trifft sich in diesem Anliegen die Soziale Marktwirtschaft mit der christlichen Soziallehre: Maßstab der Wirtschaft ist der Mensch\, nicht der Gewinn – eine Einsicht die auch in der jüngsten Enzyklika „Caritas in veritate“ von Papst Benedikt XVI. im Mittelpunkt steht.
URL:https://kar.ruhr/aktuelles/die-christlichen-wurzeln-der-sozialen-marktwirtschaft/
LOCATION:Restaurant Forsthaus\, Großenbaumer Str. 83\, Mülheim\, Deutschland
CATEGORIES:Netzwerkveranstaltung
END:VEVENT
END:VCALENDAR