BEGIN:VCALENDAR
VERSION:2.0
PRODID:-//Katholischer Akademikerverband Ruhr - ECPv6.15.18//NONSGML v1.0//EN
CALSCALE:GREGORIAN
METHOD:PUBLISH
X-ORIGINAL-URL:https://kar.ruhr
X-WR-CALDESC:Veranstaltungen für Katholischer Akademikerverband Ruhr
REFRESH-INTERVAL;VALUE=DURATION:PT1H
X-Robots-Tag:noindex
X-PUBLISHED-TTL:PT1H
BEGIN:VTIMEZONE
TZID:Europe/Berlin
BEGIN:DAYLIGHT
TZOFFSETFROM:+0100
TZOFFSETTO:+0200
TZNAME:CEST
DTSTART:20140330T010000
END:DAYLIGHT
BEGIN:STANDARD
TZOFFSETFROM:+0200
TZOFFSETTO:+0100
TZNAME:CET
DTSTART:20141026T010000
END:STANDARD
BEGIN:DAYLIGHT
TZOFFSETFROM:+0100
TZOFFSETTO:+0200
TZNAME:CEST
DTSTART:20150329T010000
END:DAYLIGHT
BEGIN:STANDARD
TZOFFSETFROM:+0200
TZOFFSETTO:+0100
TZNAME:CET
DTSTART:20151025T010000
END:STANDARD
BEGIN:DAYLIGHT
TZOFFSETFROM:+0100
TZOFFSETTO:+0200
TZNAME:CEST
DTSTART:20160327T010000
END:DAYLIGHT
BEGIN:STANDARD
TZOFFSETFROM:+0200
TZOFFSETTO:+0100
TZNAME:CET
DTSTART:20161030T010000
END:STANDARD
END:VTIMEZONE
BEGIN:VEVENT
DTSTART;TZID=Europe/Berlin:20151008T193000
DTEND;TZID=Europe/Berlin:20151008T193000
DTSTAMP:20260423T135555
CREATED:20150401T143158Z
LAST-MODIFIED:20150921T082543Z
UID:403-1444332600-1444332600@kar.ruhr
SUMMARY:Glaubens-Gespräch
DESCRIPTION:…. im Anschluss an die hl. Messe um 19:00 Uhr: \n„Brauchen Christen das Alte Testament?“\nEine Antwort auf Notger Slenczka\n\nNotger Slenczka (Lehrstuhl für Systematische Theologie\, Evangelische Fakultät Berlin) hat mit seiner Forderung\, dass das Alte Testament „eine kanonische Geltung in der Kirche nicht haben sollte“ einen Sturm der Entrüstung ausgelöst. \nSlenczka möchte das Alte Testament aus der christlichen Bibel getilgt wissen. Darin wurde ihm heftig von den eigenen Berliner Fakultätskollegen widersprochen; die Jüdische Allgemeine sprach in ihrer Ausgabe vom 23. 4. 2015 gar von „Antijudaismus in neuem Gewand“ und einem „beschämenden Skandal im deutschen Protestantismus“. \nProf. Dr. Markus Tiwald\, Lehrstuhlinhaber für Neues Testament an der Universität Duisburg-Essen\, wird zunächst die These Slenczkas vorstellen\, auf ähnliche Ansätze im fundamentalistisch-katholischen Sektor verweisen\, sodann unser eigenes Vorverständnis in dieser Frage beleuchten\, um zuletzt aufzuzeigen\, welche jüngsten Trends der jüdisch-christliche Exegese überzeugende Gegen-Antworten zu Slenczkas Thesen bieten. \n  \nDatei:\n Ankündigung Oktober 2015
URL:https://kar.ruhr/aktuelles/glaubensgespraech-an-st-ignatius-essen-2/
LOCATION:Gemeindesaal An St. Ignatius\, An St. Ignatius 8\, Essen\, 45128\, Deutschland
CATEGORIES:Eigene Veranstaltungen
ORGANIZER;CN="Katholischer Akademikerverband Ruhr e.V.":MAILTO:marc.hubbert.kar@gmail.com
END:VEVENT
BEGIN:VEVENT
DTSTART;TZID=Europe/Berlin:20151013T200000
DTEND;TZID=Europe/Berlin:20151013T200000
DTSTAMP:20260423T135555
CREATED:20150401T143321Z
LAST-MODIFIED:20150803T095415Z
UID:404-1444766400-1444766400@kar.ruhr
SUMMARY:Kloster Stiepel
DESCRIPTION:Vortrag: Prof. Dr. med. Dr. theol. Matthias Beck\, Wien\nMedizin und Spiritualität. Genetik\, Epigenetik und die spirituelle Dimension des Menschen…. \nDie Medizin ist in einem dramatischen Umbruch: Der Einzelne tritt immer mehr ins Zentrum. Individualisierte\, personalisierte und partizipative Medizin sind die aktuellen Stichwörter. Gleichzeitig ist sehr viel bekannt darüber\, wie Lebensstile\, zwischenmenschliche Beziehungen und auch das Innenleben des Menschen Einfluss auf das Immunsystem und die Gene haben. Gene müssen aktiviert und inaktiviert werden\, und diese An- und Abschaltmechanismen der Gene (genannt: epigenetische Einflüsse oder Epigenetik) haben auch etwas mit dem Denken und Fühlen des Menschen\, letztlich sogar mit seiner Spiritualität zu tun. Was aber ist christliche Spiritualität? Wo liegen die heutigen Herausforderungen für den Christen? Und wie hängen Spiritualität\, Psychologie und Medizin miteinander zusammen? Diesen Fragen will der Vortrag nachgehen.
URL:https://kar.ruhr/aktuelles/medizin-und-spiritualitaet-genetik-epigenetik-und-die-spirituelle-dimension-des-menschen/
LOCATION:Kloster Stiepel – Auditorium\, Am Varenholt 9\, Bochum\, 44797
CATEGORIES:Netzwerkveranstaltung
END:VEVENT
BEGIN:VEVENT
DTSTART;TZID=Europe/Berlin:20151021T193000
DTEND;TZID=Europe/Berlin:20151021T193000
DTSTAMP:20260423T135555
CREATED:20150714T085743Z
LAST-MODIFIED:20150728T065948Z
UID:599-1445455800-1445455800@kar.ruhr
SUMMARY:Medienforum Essen
DESCRIPTION:„Im Morgenlicht“ – \nEin geistliches Lesebuch \nLesung und Gespräch mit der Autorin Petra Fietzek \nDateien:\n Morgenlicht
URL:https://kar.ruhr/aktuelles/medienforum-essen-12/
LOCATION:Medienforum des Bistums Essen\, Zwölfling 14\, Essen\, 45127\, Deutschland
ORGANIZER;CN="Medienforum des Bistums Essen":MAILTO:medienforum@bistum-essen.de
END:VEVENT
BEGIN:VEVENT
DTSTART;TZID=Europe/Berlin:20151022T193000
DTEND;TZID=Europe/Berlin:20151022T193000
DTSTAMP:20260423T135555
CREATED:20150714T080919Z
LAST-MODIFIED:20150728T070159Z
UID:588-1445542200-1445542200@kar.ruhr
SUMMARY:Medienforum Essen
DESCRIPTION:„Geschichten vom Sterben“ –\nLesung und Gespräch mit der Palliativmedizinerin\nPetra Anwar und dem Schriftsteller John von Düffel \n  \nDateien:\n Geschichten vom Sterben
URL:https://kar.ruhr/aktuelles/medienforum-essen-8/
LOCATION:Medienforum des Bistums Essen\, Zwölfling 14\, Essen\, 45127\, Deutschland
ORGANIZER;CN="Medienforum des Bistums Essen":MAILTO:medienforum@bistum-essen.de
END:VEVENT
BEGIN:VEVENT
DTSTART;TZID=Europe/Berlin:20151027T193000
DTEND;TZID=Europe/Berlin:20151027T193000
DTSTAMP:20260423T135555
CREATED:20150710T153433Z
LAST-MODIFIED:20150728T070257Z
UID:572-1445974200-1445974200@kar.ruhr
SUMMARY:Medienforum Essen
DESCRIPTION:Der Schmuggel über die Zeitgrenze\nLesung und Gespräch mit dem\ndeutsch-israelischen Autor Chaim Noll \n  \nDateien\n Der Schmuggel
URL:https://kar.ruhr/aktuelles/medienforum-essen/
LOCATION:Medienforum des Bistums Essen\, Zwölfling 14\, Essen\, 45127\, Deutschland
ORGANIZER;CN="Medienforum des Bistums Essen":MAILTO:medienforum@bistum-essen.de
END:VEVENT
BEGIN:VEVENT
DTSTART;TZID=Europe/Berlin:20151028T193000
DTEND;TZID=Europe/Berlin:20151028T193000
DTSTAMP:20260423T135555
CREATED:20150401T143419Z
LAST-MODIFIED:20150401T143419Z
UID:405-1446060600-1446060600@kar.ruhr
SUMMARY:DIMENSION DOMORGEL III | Stummfilm und Orgel
DESCRIPTION:Domorganist Sebastian Küchler-Blessing\, Improvisation
URL:https://kar.ruhr/aktuelles/dimension-domorgel-iii-stummfilm-und-orgel-2/
LOCATION:Hoher Dom zu Essen
CATEGORIES:Netzwerkveranstaltung
END:VEVENT
BEGIN:VEVENT
DTSTART;TZID=Europe/Berlin:20151028T193000
DTEND;TZID=Europe/Berlin:20151028T193000
DTSTAMP:20260423T135555
CREATED:20150716T093859Z
LAST-MODIFIED:20150716T093859Z
UID:616-1446060600-1446060600@kar.ruhr
SUMMARY:Medienforum Essen
DESCRIPTION:„Glänzende Aussichten“ \nEine Gesprächsreihe zur Zukunft von\nChristentum und Kirche \nLesung und Gespräch mit dem Autor und Soziologen\nProfessor Franz Xaver Kaufmann aus seiner neuen\nPublikation:\n„Zwischen Wissenschaft und Glauben –\nPersönliche Texte“ \nDateien:\n Zwischen Wissenschaft
URL:https://kar.ruhr/aktuelles/medienforum-essen-18/
LOCATION:Medienforum des Bistums Essen\, Zwölfling 14\, Essen\, 45127\, Deutschland
ORGANIZER;CN="Medienforum des Bistums Essen":MAILTO:medienforum@bistum-essen.de
END:VEVENT
END:VCALENDAR