BEGIN:VCALENDAR
VERSION:2.0
PRODID:-//Katholischer Akademikerverband Ruhr - ECPv6.15.18//NONSGML v1.0//EN
CALSCALE:GREGORIAN
METHOD:PUBLISH
X-WR-CALNAME:Katholischer Akademikerverband Ruhr
X-ORIGINAL-URL:https://kar.ruhr
X-WR-CALDESC:Veranstaltungen für Katholischer Akademikerverband Ruhr
REFRESH-INTERVAL;VALUE=DURATION:PT1H
X-Robots-Tag:noindex
X-PUBLISHED-TTL:PT1H
BEGIN:VTIMEZONE
TZID:Europe/Berlin
BEGIN:DAYLIGHT
TZOFFSETFROM:+0100
TZOFFSETTO:+0200
TZNAME:CEST
DTSTART:20140330T010000
END:DAYLIGHT
BEGIN:STANDARD
TZOFFSETFROM:+0200
TZOFFSETTO:+0100
TZNAME:CET
DTSTART:20141026T010000
END:STANDARD
BEGIN:DAYLIGHT
TZOFFSETFROM:+0100
TZOFFSETTO:+0200
TZNAME:CEST
DTSTART:20150329T010000
END:DAYLIGHT
BEGIN:STANDARD
TZOFFSETFROM:+0200
TZOFFSETTO:+0100
TZNAME:CET
DTSTART:20151025T010000
END:STANDARD
BEGIN:DAYLIGHT
TZOFFSETFROM:+0100
TZOFFSETTO:+0200
TZNAME:CEST
DTSTART:20160327T010000
END:DAYLIGHT
BEGIN:STANDARD
TZOFFSETFROM:+0200
TZOFFSETTO:+0100
TZNAME:CET
DTSTART:20161030T010000
END:STANDARD
END:VTIMEZONE
BEGIN:VEVENT
DTSTART;TZID=Europe/Berlin:20151103T193000
DTEND;TZID=Europe/Berlin:20151103T193000
DTSTAMP:20260423T121903
CREATED:20150716T075803Z
LAST-MODIFIED:20150716T081355Z
UID:606-1446579000-1446579000@kar.ruhr
SUMMARY:Medienforum Essen
DESCRIPTION:„Sich selbst verlieren und alles gewinnen“ \nEin Physiker greift nach den Sternen\nLesung und Gespräch mit Professor Markolf H. Niemz \nDateien:\n Sich selbst verlieren
URL:https://kar.ruhr/aktuelles/medienforum-essen-14/
LOCATION:Medienforum des Bistums Essen\, Zwölfling 14\, Essen\, 45127\, Deutschland
ORGANIZER;CN="Medienforum des Bistums Essen":MAILTO:medienforum@bistum-essen.de
END:VEVENT
BEGIN:VEVENT
DTSTART;TZID=Europe/Berlin:20151105T193000
DTEND;TZID=Europe/Berlin:20151105T193000
DTSTAMP:20260423T121903
CREATED:20150714T083710Z
LAST-MODIFIED:20150728T070404Z
UID:591-1446751800-1446751800@kar.ruhr
SUMMARY:Medienforum Essen
DESCRIPTION:„Fußnoten – Ein Hornist ohne Arme\nerobert die Welt“ \n  \nLesung und Gespräch mit dem Autor und Hornisten\nFelix Klieser……Musikalische Kostproben inbegriffen! \nDateien:\n Fussnote
URL:https://kar.ruhr/aktuelles/medienforum-essen-9/
LOCATION:Medienforum des Bistums Essen\, Zwölfling 14\, Essen\, 45127\, Deutschland
ORGANIZER;CN="Medienforum des Bistums Essen":MAILTO:medienforum@bistum-essen.de
END:VEVENT
BEGIN:VEVENT
DTSTART;TZID=Europe/Berlin:20151105T193000
DTEND;TZID=Europe/Berlin:20151105T213000
DTSTAMP:20260423T121903
CREATED:20151027T134130Z
LAST-MODIFIED:20151027T134855Z
UID:754-1446751800-1446759000@kar.ruhr
SUMMARY:B.M.V. - Schule
DESCRIPTION:Allen nützen\, niemandem schaden!\nOmnibus prodesse\, obesse nemini! (Wahlspruch des hl. Pierre Fourier) \nVortrag zum 450. Geburtstag des Ordensgründer: Sr. Dorothea M. Kuld \nZur Vorbereitung auf diesen Jahrestag (30.11.) hält das Beiratsmitglied des KAR  und Chorfrau nach der Regel des hl. Augustinus\, Schwester Dorothea Kuld\, einen Festvortrag. \nDateien\n BMV Vortrag 5-11-15
URL:https://kar.ruhr/aktuelles/b-m-v-schule/
LOCATION:B.M.V. Schule\, Bardelebenstr. 7 - 9\, Essen\, 45147\, Deutschland
ATTACH;FMTTYPE=image/jpeg:https://kar.ruhr/wp-content/uploads/2015/10/bmv.jpg
ORGANIZER;CN="B.M.V.- Schule":MAILTO: info@bmv-essen.de
END:VEVENT
BEGIN:VEVENT
DTSTART;TZID=Europe/Berlin:20151109T193000
DTEND;TZID=Europe/Berlin:20151109T193000
DTSTAMP:20260423T121903
CREATED:20150714T084627Z
LAST-MODIFIED:20150728T070507Z
UID:595-1447097400-1447097400@kar.ruhr
SUMMARY:Medienforum Essen
DESCRIPTION:„In Rente“\nDer größte Einschnitt unseres Lebens\nLesung und Gespräch mit dem Autor und Journalisten Wolfgang Prosinger \nDateien:\n In Rente
URL:https://kar.ruhr/aktuelles/medienforum-essen-10/
LOCATION:Medienforum des Bistums Essen\, Zwölfling 14\, Essen\, 45127\, Deutschland
ORGANIZER;CN="Medienforum des Bistums Essen":MAILTO:medienforum@bistum-essen.de
END:VEVENT
BEGIN:VEVENT
DTSTART;TZID=Europe/Berlin:20151110T193000
DTEND;TZID=Europe/Berlin:20151110T193000
DTSTAMP:20260423T121903
CREATED:20150716T091544Z
LAST-MODIFIED:20150716T091841Z
UID:614-1447183800-1447183800@kar.ruhr
SUMMARY:Medienforum Essen
DESCRIPTION:70 Jahre Ende Zweiter Weltkrieg \n„Versöhnung mit Russland“ \nLesung und Gespräch mit dem Autor Dieter Bach \nDateien:\n Versoehnung in Russland
URL:https://kar.ruhr/aktuelles/medienforum-essen-17/
LOCATION:Medienforum des Bistums Essen\, Zwölfling 14\, Essen\, 45127\, Deutschland
ORGANIZER;CN="Medienforum des Bistums Essen":MAILTO:medienforum@bistum-essen.de
END:VEVENT
BEGIN:VEVENT
DTSTART;TZID=Europe/Berlin:20151110T200000
DTEND;TZID=Europe/Berlin:20151110T220000
DTSTAMP:20260423T121903
CREATED:20150401T143747Z
LAST-MODIFIED:20151103T221057Z
UID:406-1447185600-1447192800@kar.ruhr
SUMMARY:Kloster Stiepel
DESCRIPTION:Brauchen wir noch geweihte Priester?\nReferent: Pater Dr. Justinus Pech OCist\, Heiligenkreuz\nIn den vergangenen Jahren sind die Zahlen der Priester im deutschsprachigen Raum dramatisch zurückgegangen. Dieser Rückgang geht einher mit einer erschütternden Welle von Kirchenaustritten bzw. einer Gleichgültigkeit gegenüber der sog. Sonntagspflicht. Aufgelassene Kirchen\, geschlossene Priesterseminare und notwendige Umstrukturierungen in den Diözesen haben das Interesse am Priesterberuf immer mehr schwinden lassen. Die Gründe für eine solche Entwicklung sind vielfältig. \nEs stellt sich die Kernfrage: Glauben wir noch daran\, dass Gott durch sein Wort und durch die Sakramente in die Welt hineinwirkt? Glauben wir noch daran\, dass ohne den geweihten Priester die Eucharistie\, die Beichte und die Krankensalbung nicht gefeiert werden können und so ver1oren gehen?
URL:https://kar.ruhr/aktuelles/brauchen-wir-priester/
LOCATION:Kloster Stiepel – Auditorium\, Am Varenholt 9\, Bochum\, 44797
END:VEVENT
BEGIN:VEVENT
DTSTART;TZID=Europe/Berlin:20151112T193000
DTEND;TZID=Europe/Berlin:20151112T193000
DTSTAMP:20260423T121903
CREATED:20150716T084749Z
LAST-MODIFIED:20150716T085411Z
UID:612-1447356600-1447356600@kar.ruhr
SUMMARY:Medienforum Essen
DESCRIPTION:„Verschwundenes Volk“ \nDas Ergebnis einer Suche im Osten \nMusikalische Impulse über die Deportation\nvon Marijan Zaja (1908 – ca. 1944) anlässlich\ndes 9. Novembers 1938 \nDateien:\nVerschwundenes Volk
URL:https://kar.ruhr/aktuelles/medienforum-essen-16/
LOCATION:Medienforum des Bistums Essen\, Zwölfling 14\, Essen\, 45127\, Deutschland
ORGANIZER;CN="Medienforum des Bistums Essen":MAILTO:medienforum@bistum-essen.de
END:VEVENT
BEGIN:VEVENT
DTSTART;TZID=Europe/Berlin:20151112T193000
DTEND;TZID=Europe/Berlin:20151112T213000
DTSTAMP:20260423T121903
CREATED:20150401T143846Z
LAST-MODIFIED:20151103T090356Z
UID:407-1447356600-1447363800@kar.ruhr
SUMMARY:Glaubens-Gespräch
DESCRIPTION:…. im Anschluss an die hl. Messe um 19:00 Uhr: \n„Was hat die Familiensynode gebracht?“\nErste Eindrücke\nGesprächsleitung: Prof. DDr. Hans Waldenfels SJ \nAls die Bischofssynode 1974 zu Ende ging\, waren die Synodenväter zwar sehr erfreut\, dass jede Bischofskonferenz in der Aula hatte reden dürfen. Doch auf ein gemeinsames Dokument für den damaligen Papst Paul VI. konnten sie sich nicht einigen. So gingen sie mit leeren Händen nach Hause. \nDiese Sensation blieb in diesem Jahr aus. \nDas Schlussdokument wurde in allen Punkten von mehr als zwei Dritteln der Teilnehmer angenommen. Die deutsche Sprachgruppe verabschiedete ihre abschließende Eingabe sogar einstimmig. Der deutschen Presse erschien das aufs Ganze schon wieder eher langweilig. Jetzt wartet man auf den Papst. \nIm Glaubensgespräch fragen wir uns: Was können wir jetzt erwarten? \nDatei:\n Glaubensgespräch November
URL:https://kar.ruhr/aktuelles/glaubensgespraech-an-st-ignatius-essen-3/
LOCATION:Gemeindesaal An St. Ignatius\, An St. Ignatius 8\, Essen\, 45128\, Deutschland
CATEGORIES:Eigene Veranstaltungen
ORGANIZER;CN="Katholischer Akademikerverband Ruhr e.V.":MAILTO:marc.hubbert.kar@gmail.com
END:VEVENT
BEGIN:VEVENT
DTSTART;TZID=Europe/Berlin:20151113T180000
DTEND;TZID=Europe/Berlin:20151113T235500
DTSTAMP:20260423T121903
CREATED:20151017T154418Z
LAST-MODIFIED:20151017T155230Z
UID:746-1447437600-1447458900@kar.ruhr
SUMMARY:Ökumenische Kirchennacht
DESCRIPTION:„Meine Seele erhebt den Herrn“\nHören\, Begegnen\, Feiern – am 13.11.2015 finden in knapp 20 Essener Kirchen die unterschiedlichsten Veranstaltungen statt. \nProgramm: http://www.kirchennacht-essen.de/veranstaltungen/ \nVeranstaltungsorte: http://www.kirchennacht-essen.de/kirchen/ \nEin ausführlicher Bericht ist auch im Neuen Ruhr-Wort Spezial Nr. 42 (17. Oktober 2015) ausgedruckt.
URL:https://kar.ruhr/aktuelles/oekumen-kirchennacht/
ORGANIZER;CN="Arbeitsgemeinschaft Christlicher Kirchen in Essen (ACK)":MAILTO:Lars.Linder@web.de
END:VEVENT
BEGIN:VEVENT
DTSTART;VALUE=DATE:20151116
DTEND;VALUE=DATE:20151117
DTSTAMP:20260423T121903
CREATED:20150401T143918Z
LAST-MODIFIED:20151010T155141Z
UID:408-1447632000-1447718399@kar.ruhr
SUMMARY:Albertus-Magnus-Tag 2015
DESCRIPTION:… im Franz-Sales-Haus\, Steeler Str. 261\,  45138 Essen \nFestredner ist Prof. Dr. Norbert Lammert \n„Bewahren und Verändern –\nDie Verantwortung von Christen in Staat und Gesellschaft“.\nDie katholischen akademischen Verbände im Bistum Essen laden ein. Weitere Infos: \nDatei:\n AMT 2015 \n 
URL:https://kar.ruhr/aktuelles/albertus-magnus-tag-2015-in-essen/
CATEGORIES:Eigene Veranstaltungen
ATTACH;FMTTYPE=image/jpeg:https://kar.ruhr/wp-content/uploads/2015/10/Logo-Albertus2.jpg
END:VEVENT
BEGIN:VEVENT
DTSTART;TZID=Europe/Berlin:20151117T193000
DTEND;TZID=Europe/Berlin:20151117T193000
DTSTAMP:20260423T121903
CREATED:20150714T085341Z
LAST-MODIFIED:20150728T070654Z
UID:597-1447788600-1447788600@kar.ruhr
SUMMARY:Medienforum Essen
DESCRIPTION:„Mobile“ & „Ich schenk dir einen Ton\naus meinem Saxofon“\nKompositionen und Geschichten für Ohr und Seele mit\nChamberJazz und dem Kinderbuchautor Heinz Janisch \nDateien: \n Mobile
URL:https://kar.ruhr/aktuelles/medienforum-essen-11/
LOCATION:Medienforum des Bistums Essen\, Zwölfling 14\, Essen\, 45127\, Deutschland
ORGANIZER;CN="Medienforum des Bistums Essen":MAILTO:medienforum@bistum-essen.de
END:VEVENT
BEGIN:VEVENT
DTSTART;TZID=Europe/Berlin:20151118T193000
DTEND;TZID=Europe/Berlin:20151118T193000
DTSTAMP:20260423T121903
CREATED:20150710T160838Z
LAST-MODIFIED:20150710T160838Z
UID:584-1447875000-1447875000@kar.ruhr
SUMMARY:Medienforum Essen
DESCRIPTION:Lebenskönnerschaft\nImpulse aus der Philosophie der Lebenskunst\nFilmgespräche im Medienforum\nLeitung: Marcus Minten\, Mülheim \n  \nWilhelm Schmid\, der Philosoph\, der das Projekt einer „Philosophie\nder Lebenskunst“ im deutschsprachigen Gebiet zu seinem Anliegen\ngemacht hat\, schreibt: „Der Philosophie ist alles zuzutrauen\, nur eines\nnicht Lebenshilfe.“ Er setzt sich vehement für eine Philosophie ein\, die\n„Raum für grundsätzliche Klärungsprozesse bieten kann“. Das hat sich\ngerade auch in der Praxis zu bewähren – in herausfordernden Lebens-\nsituationen. \n  \nDateien\n Flyer_Filmgespräche
URL:https://kar.ruhr/aktuelles/medienforum-essen-6/
LOCATION:Medienforum des Bistums Essen\, Zwölfling 14\, Essen\, 45127\, Deutschland
ORGANIZER;CN="Medienforum des Bistums Essen":MAILTO:medienforum@bistum-essen.de
END:VEVENT
BEGIN:VEVENT
DTSTART;TZID=Europe/Berlin:20151119T193000
DTEND;TZID=Europe/Berlin:20151119T193000
DTSTAMP:20260423T121903
CREATED:20150714T084119Z
LAST-MODIFIED:20151119T105810Z
UID:593-1447961400-1447961400@kar.ruhr
SUMMARY:Medienformum Essen
DESCRIPTION:„Gestatten Sie\, dass ich liegen bleibe?“ \nUngewöhnliche Grabsteine – Eine Reise über die\nFriedhöfe von heute \nEin Gespräch mit Dr. Thorsten Benkel und Matthias Meitzler M.A. \nDateien:\n Gestatten
URL:https://kar.ruhr/aktuelles/medienformum-essen/
LOCATION:Medienforum des Bistums Essen\, Zwölfling 14\, Essen\, 45127\, Deutschland
ORGANIZER;CN="Medienforum des Bistums Essen":MAILTO:medienforum@bistum-essen.de
END:VEVENT
BEGIN:VEVENT
DTSTART;TZID=Europe/Berlin:20151127T200000
DTEND;TZID=Europe/Berlin:20151127T220000
DTSTAMP:20260423T121903
CREATED:20151103T222518Z
LAST-MODIFIED:20151103T223112Z
UID:764-1448654400-1448661600@kar.ruhr
SUMMARY:Kloster Stiepel
DESCRIPTION:Humorvolle Weihnachtslesung\nvon und mit Kabarettist Thomas Glup\nWeihnachten ist für Thomas Glup alias Pater Veit Martin das schönste Fest des Jahres. \nMit der Geburt Christi hat Gott uns Hoffnung und Freude in die Welt gesandt. Daher kann der Tausendsassa\, der bereits mit seinem Programm „Ach du lieber Himmel“ die Zuschauer in Stiepel begeisterte\, den Umgang vieler Menschen mit diesem Fest auch nicht nachvollziehen. Anstatt die Adventszeit fröhlich und heiter als Vorbereitung auf das Weihnachtsfest zu nutzen\, zeigen sich die Menschen hektisch\, und ihre Gesichter lassen echte Vorfreude vermissen. \nAus diesem Grund hat es sich Thomas Glup (Pater Veit Martin) schon vor Jahren zur Aufgabe gemacht\, seine Zuhörer mit Humorvollen Weihnachtslesungen auf das Fest Christi Geburt einzustimmen. Mit humorvollen und nachdenklichen Texten begeistert er seit acht Jahren eine große Fangemeinde. \nDiese Veranstaltungen sind im „Theater im Rathaus Essen“ seit Jahren Kult und bereits am ersten Verkaufstag nach der Sommerpause restlos ausverkauft. Nun wird der sympathische „Schelm Gottes“\, wie er von den Zuschauern gerne genannt wird\, mit einer Humorvollen Weihnachtslesung am 27. November 2015 erneut in Stiepel zu Gast sein. \nKartenbestellungen (10 EUR) nimmt die Klosterpforte unter Tel. 0234 / 77 70 50 entgegen.
URL:https://kar.ruhr/aktuelles/kloster-stiepel/
LOCATION:Kloster Stiepel – Auditorium\, Am Varenholt 9\, Bochum\, 44797
END:VEVENT
END:VCALENDAR