BEGIN:VCALENDAR
VERSION:2.0
PRODID:-//Katholischer Akademikerverband Ruhr - ECPv6.15.18//NONSGML v1.0//EN
CALSCALE:GREGORIAN
METHOD:PUBLISH
X-ORIGINAL-URL:https://kar.ruhr
X-WR-CALDESC:Veranstaltungen für Katholischer Akademikerverband Ruhr
REFRESH-INTERVAL;VALUE=DURATION:PT1H
X-Robots-Tag:noindex
X-PUBLISHED-TTL:PT1H
BEGIN:VTIMEZONE
TZID:Europe/Berlin
BEGIN:DAYLIGHT
TZOFFSETFROM:+0100
TZOFFSETTO:+0200
TZNAME:CEST
DTSTART:20140330T010000
END:DAYLIGHT
BEGIN:STANDARD
TZOFFSETFROM:+0200
TZOFFSETTO:+0100
TZNAME:CET
DTSTART:20141026T010000
END:STANDARD
BEGIN:DAYLIGHT
TZOFFSETFROM:+0100
TZOFFSETTO:+0200
TZNAME:CEST
DTSTART:20150329T010000
END:DAYLIGHT
BEGIN:STANDARD
TZOFFSETFROM:+0200
TZOFFSETTO:+0100
TZNAME:CET
DTSTART:20151025T010000
END:STANDARD
BEGIN:DAYLIGHT
TZOFFSETFROM:+0100
TZOFFSETTO:+0200
TZNAME:CEST
DTSTART:20160327T010000
END:DAYLIGHT
BEGIN:STANDARD
TZOFFSETFROM:+0200
TZOFFSETTO:+0100
TZNAME:CET
DTSTART:20161030T010000
END:STANDARD
END:VTIMEZONE
BEGIN:VEVENT
DTSTART;TZID=Europe/Berlin:20151203T190000
DTEND;TZID=Europe/Berlin:20151203T213000
DTSTAMP:20260423T104132
CREATED:20151118T152046Z
LAST-MODIFIED:20151125T132355Z
UID:775-1449169200-1449178200@kar.ruhr
SUMMARY:Kamingespräch FFC Stiftung
DESCRIPTION:Nahtoderfahrung und Organspende\nVortrag und Diskussionleitung: Prof. Dr. med. Hans-Georg Krengel \nEs diskutieren verschiedene Mediziner und Theologen zum Thema. \nDatei:\n Organspende
URL:https://kar.ruhr/aktuelles/kamingespraech-kar/
LOCATION:FFC-Stiftung in Essen-Steele\, Paßstrasse 2\, Essen\, 45276\, Deutschland
CATEGORIES:Eigene Veranstaltungen
ATTACH;FMTTYPE=image/jpeg:https://kar.ruhr/wp-content/uploads/2015/11/Prof_Dr_Hans-Georg_Krengel-e1490520243746.jpg
ORGANIZER;CN="Katholischer Akademikerverband Ruhr e.V.":MAILTO:marc.hubbert.kar@gmail.com
END:VEVENT
BEGIN:VEVENT
DTSTART;TZID=Europe/Berlin:20151209T160000
DTEND;TZID=Europe/Berlin:20151209T180000
DTSTAMP:20260423T104132
CREATED:20151118T154909Z
LAST-MODIFIED:20151119T085734Z
UID:779-1449676800-1449684000@kar.ruhr
SUMMARY:VdkL Essen
DESCRIPTION:Krippenbilder – … im Wandel der Zeiten\nReferentin: Dipl. Kulturwirtin F. Lopedoto \nBildauswahl\, Informationen und Impulse vieler Krippendarstellungen werden erörtert – in ihrer Charakteristik und Unterschiedlichkeit. \nInteressierte sind eingeladen\, eigenes Material zum Thema mitzubringen. \n Krippenbilder \n 
URL:https://kar.ruhr/aktuelles/779/
LOCATION:Kath. Stadthaus\, Bernestr. 5\, Essen\, 45127\, Deutschland
ORGANIZER;CN="Verein katholischer deutscher Lehrerinnen":MAILTO:vkdl-Essen@t-online.de
END:VEVENT
BEGIN:VEVENT
DTSTART;TZID=Europe/Berlin:20151209T193000
DTEND;TZID=Europe/Berlin:20151209T193000
DTSTAMP:20260423T104132
CREATED:20150710T160948Z
LAST-MODIFIED:20151027T132832Z
UID:585-1449689400-1449689400@kar.ruhr
SUMMARY:Medienforum Essen
DESCRIPTION:Lebenskönnerschaft\nImpulse aus der Philosophie der Lebenskunst\nFilmgespräche im Medienforum\nLeitung: Marcus Minten\, Mülheim \n  \nWilhelm Schmid\, der Philosoph\, der das Projekt einer „Philosophie\nder Lebenskunst“ im deutschsprachigen Gebiet zu seinem Anliegen\ngemacht hat\, schreibt: „Der Philosophie ist alles zuzutrauen\, nur eines\nnicht Lebenshilfe.“ Er setzt sich vehement für eine Philosophie ein\, die\n„Raum für grundsätzliche Klärungsprozesse bieten kann“. Das hat sich\ngerade auch in der Praxis zu bewähren – in herausfordernden Lebens-\nsituationen. \n  \nDateien\n Flyer_Filmgespräche
URL:https://kar.ruhr/aktuelles/medienforum-essen-7/
LOCATION:Medienforum des Bistums Essen\, Zwölfling 14\, Essen\, 45127\, Deutschland
ORGANIZER;CN="Medienforum des Bistums Essen":MAILTO:medienforum@bistum-essen.de
END:VEVENT
BEGIN:VEVENT
DTSTART;TZID=Europe/Berlin:20151210T193000
DTEND;TZID=Europe/Berlin:20151210T213000
DTSTAMP:20260423T104132
CREATED:20150401T144002Z
LAST-MODIFIED:20151201T141123Z
UID:409-1449775800-1449783000@kar.ruhr
SUMMARY:Glaubens-Gespräch
DESCRIPTION:…. im Anschluss an die hl. Messe um 19:00 Uhr: \n„Advent im Kloster“\nSr. Regina Greefrath\, B.M.V.\, berichtet\nGesprächsleitung: Prof. DDr. Hans Waldenfels SJ \nDie B.M.V. ist offensichtlich auch für junge Frauen nach wie vor attraktiv. Eine von ihnen\, Schwester Regina Greefrath\, ist zu Gast. Sie hat einen kleinen Film über ihren Weg ins Kloster gedreht mit dem Titel: „Freiwillig lebenslänglich.“ \nWir wollen sie fragen: Was findet sie als junge Frau in einem Kloster? Was bietet ihr das Kloster\, was in der Welt nicht zu finden ist? Ist Klosterleben für sie so etwas wie eine ständige Adventszeit? \nDatei:\n Advent im Kloster
URL:https://kar.ruhr/aktuelles/glaubensgespraech-an-st-ignatius-essen-4/
LOCATION:Gemeindesaal An St. Ignatius\, An St. Ignatius 8\, Essen\, 45128\, Deutschland
CATEGORIES:Eigene Veranstaltungen
ORGANIZER;CN="Katholischer Akademikerverband Ruhr e.V.":MAILTO:marc.hubbert.kar@gmail.com
END:VEVENT
BEGIN:VEVENT
DTSTART;TZID=Europe/Berlin:20151211T193000
DTEND;TZID=Europe/Berlin:20151211T193000
DTSTAMP:20260423T104132
CREATED:20150716T083146Z
LAST-MODIFIED:20150716T083528Z
UID:610-1449862200-1449862200@kar.ruhr
SUMMARY:Medienforum Essen
DESCRIPTION:STRINGS ARE CHANGING \nWie klingt es hinter den Fenstern\ndes Adventskalenders? \nGroovy Worldjazz gespickt mit versteckten musikalischen\nWeihnachtszitaten … \nDateien:\n Strings are changing
URL:https://kar.ruhr/aktuelles/medienforum-essen-15/
LOCATION:Medienforum des Bistums Essen\, Zwölfling 14\, Essen\, 45127\, Deutschland
ORGANIZER;CN="Medienforum des Bistums Essen":MAILTO:medienforum@bistum-essen.de
END:VEVENT
BEGIN:VEVENT
DTSTART;TZID=Europe/Berlin:20151216T193000
DTEND;TZID=Europe/Berlin:20151216T193000
DTSTAMP:20260423T104132
CREATED:20150401T144103Z
LAST-MODIFIED:20150401T144635Z
UID:410-1450294200-1450294200@kar.ruhr
SUMMARY:DIMENSION DOMORGEL IV | "Syrinx und Caecilia" Daniela Koch\, Flöte
DESCRIPTION:Domorganist Sebastian Küchler-Blessing\, Orgel
URL:https://kar.ruhr/aktuelles/dimension-domorgel-iv-syrinx-und-caecilia-daniela-koch-floete/
LOCATION:Hoher Dom zu Essen
CATEGORIES:Netzwerkveranstaltung
END:VEVENT
END:VCALENDAR