BEGIN:VCALENDAR
VERSION:2.0
PRODID:-//Katholischer Akademikerverband Ruhr - ECPv6.15.18//NONSGML v1.0//EN
CALSCALE:GREGORIAN
METHOD:PUBLISH
X-ORIGINAL-URL:https://kar.ruhr
X-WR-CALDESC:Veranstaltungen für Katholischer Akademikerverband Ruhr
REFRESH-INTERVAL;VALUE=DURATION:PT1H
X-Robots-Tag:noindex
X-PUBLISHED-TTL:PT1H
BEGIN:VTIMEZONE
TZID:Europe/Berlin
BEGIN:DAYLIGHT
TZOFFSETFROM:+0100
TZOFFSETTO:+0200
TZNAME:CEST
DTSTART:20150329T010000
END:DAYLIGHT
BEGIN:STANDARD
TZOFFSETFROM:+0200
TZOFFSETTO:+0100
TZNAME:CET
DTSTART:20151025T010000
END:STANDARD
BEGIN:DAYLIGHT
TZOFFSETFROM:+0100
TZOFFSETTO:+0200
TZNAME:CEST
DTSTART:20160327T010000
END:DAYLIGHT
BEGIN:STANDARD
TZOFFSETFROM:+0200
TZOFFSETTO:+0100
TZNAME:CET
DTSTART:20161030T010000
END:STANDARD
BEGIN:DAYLIGHT
TZOFFSETFROM:+0100
TZOFFSETTO:+0200
TZNAME:CEST
DTSTART:20170326T010000
END:DAYLIGHT
BEGIN:STANDARD
TZOFFSETFROM:+0200
TZOFFSETTO:+0100
TZNAME:CET
DTSTART:20171029T010000
END:STANDARD
END:VTIMEZONE
BEGIN:VEVENT
DTSTART;VALUE=DATE:20160228
DTEND;VALUE=DATE:20160404
DTSTAMP:20260423T061214
CREATED:20160227T234618Z
LAST-MODIFIED:20160228T215120Z
UID:894-1456617600-1459727999@kar.ruhr
SUMMARY:KMB
DESCRIPTION:KunstMuseum Bochum (KMB) \nThe Urban Sacred\nAustellung: Städtisch-religiöse Arrangements in Amsterdam\, Berlin und London \nvom 27. Februar 2016 bis 03. April 2016 \nWie prägen religiöse Zeichen den städtischen Raum? Ab wann – und wie lange – gilt ein Gebäude\, ein Platz\, ein Gegenstand überhaupt als religiös? \nDiesen Fragen widmet sich seit Sept. 2013 das internationale Forschungsprojekt „Konic Religion“. \nDie Ausstellung gewährt Einblicke in diese Forschungsarbeit. Ergänzt durch die photographischen und filmischen Perspektiven der Künstlerinnen Nina Gschössel\, Henriette Kriese & Tania Reinicke wenden die komplexen Arrangements von Religion und urbanen Raum sichtbar. \nNach Bochum wird die Ausstellung in London\, Berlin & Amsterdam zu sehen sein…
URL:https://kar.ruhr/aktuelles/kmb/
LOCATION:Kunstmuseum Bochum\, Kortumstr. 147\, Bochum\, 44787
END:VEVENT
BEGIN:VEVENT
DTSTART;TZID=Europe/Berlin:20160302T181500
DTEND;TZID=Europe/Berlin:20160302T210000
DTSTAMP:20260423T061214
CREATED:20160227T083718Z
LAST-MODIFIED:20160227T083859Z
UID:882-1456942500-1456952400@kar.ruhr
SUMMARY:Denkbar Auftakt
DESCRIPTION:Darf’s ein Viertel mehr sein?\nChristliche Initiativen im Stadtteil \nModeration: Dr. Maria Lütringhaus; Gesprächspartner P. Winfried Pauly (St. Franzikus\, Bochum); Klemens Hasenberg (PGR St. Lamberti\, Gladbeck) \nAnmeldung bis 25.02.2016 \nWeitere inhaltliche Informationen siehe Datei. \nDatei: \n DENKBAR_Auftakt
URL:https://kar.ruhr/aktuelles/denkbar-auftakt/
LOCATION:Ev. Gemeindezentrum\, Auf dem Backenberg 8\, Bochum\, 44801\, Deutschland
ORGANIZER;CN="Bistum Essen":MAILTO:denkbar@bistum-essen.de
END:VEVENT
BEGIN:VEVENT
DTSTART;TZID=Europe/Berlin:20160302T190000
DTEND;TZID=Europe/Berlin:20160302T213000
DTSTAMP:20260423T061214
CREATED:20160225T092019Z
LAST-MODIFIED:20160225T092144Z
UID:873-1456945200-1456954200@kar.ruhr
SUMMARY:Juristische Gesellschaft Ruhr
DESCRIPTION:Scharia und deutsches Recht\nGemeinschaftsveranstaltung mit der Ruhr Universität Bochum \nReferent: Professor Dr. F.Wittreck\, Münster \nRechtsquellen der Scharia und ihre Bedeutung im deutschen Recht werden anhand von konkreten Konfliktfällen erörtert. Anschließend Diskussion und Beisammensein. Anmeldung erforderlich (s. Datei). \nDatei:\n Scharia und deutsches Recht
URL:https://kar.ruhr/aktuelles/juristische-gesellschaft-ruhr-2/
LOCATION:Ruhr Universität\, Massenbergstr. 11; HS 2 (EG)\, Bochum\, 44787\, Deutschland
ATTACH;FMTTYPE=image/jpeg:https://kar.ruhr/wp-content/uploads/2016/02/Logo-Ruhr.jpg
END:VEVENT
BEGIN:VEVENT
DTSTART;TZID=Europe/Berlin:20160310T193000
DTEND;TZID=Europe/Berlin:20160310T220000
DTSTAMP:20260423T061214
CREATED:20151209T081950Z
LAST-MODIFIED:20151209T081950Z
UID:817-1457638200-1457647200@kar.ruhr
SUMMARY:Medienforum Essen
DESCRIPTION:Sei mir ein Vater\nLesung und Gespräch mit Anne Gesthuysen \n Sei_mir_ein_Vater
URL:https://kar.ruhr/aktuelles/medienforum-essen-28/
LOCATION:Medienforum des Bistums Essen\, Zwölfling 14\, Essen\, 45127\, Deutschland
ORGANIZER;CN="Medienforum des Bistums Essen":MAILTO:medienforum@bistum-essen.de
END:VEVENT
BEGIN:VEVENT
DTSTART;TZID=Europe/Berlin:20160310T193000
DTEND;TZID=Europe/Berlin:20160310T220000
DTSTAMP:20260423T061214
CREATED:20160220T134033Z
LAST-MODIFIED:20160227T234205Z
UID:871-1457638200-1457647200@kar.ruhr
SUMMARY:Glaubens-Gespräch
DESCRIPTION:„Beichte“ – Warum soll ich beichten?\nGesprächsleitung: Prof. DDr. Hans Waldenfels SJ \nDonnerstag\, 10. März 2016; 19:30 Uhr in St. Ignatius. \nDatei:\n Gespräch Beichte
URL:https://kar.ruhr/aktuelles/glaubensgespraech/
CATEGORIES:Eigene Veranstaltungen
ORGANIZER;CN="Katholischer Akademikerverband Ruhr e.V.":MAILTO:marc.hubbert.kar@gmail.com
END:VEVENT
BEGIN:VEVENT
DTSTART;TZID=Europe/Berlin:20160311T183000
DTEND;TZID=Europe/Berlin:20160311T213000
DTSTAMP:20260423T061214
CREATED:20160227T232148Z
LAST-MODIFIED:20160227T233216Z
UID:887-1457721000-1457731800@kar.ruhr
SUMMARY:KFD und Bistum Essen
DESCRIPTION:„Gemeinsames Haus – Verantwortung aller“\nPerspektiven kirchlicher Entwicklungszusammenarbeit \nReferent: Prälat Pirmin Spiegel\, Hauptgeschäftsführer MISEREOR \nGemeinschaftsveranstaltung der KFD Diozöse Essen und dem Bistum Essen\, Abt. Weltkirche & Mission \nNährere Informationen siehe Datei. \nAnmeldungen bitte unter:\nTel.: 0201 / 2204-634 oder unter info.weltkirche@bistum-essen.de\nDatei:\n Infoblatt
URL:https://kar.ruhr/aktuelles/kfd-essen/
LOCATION:Kardinal-Hengsbach-Haus\, Dahler Höhe 29\, Essen\, Deutschland
END:VEVENT
BEGIN:VEVENT
DTSTART;TZID=Europe/Berlin:20160316T193000
DTEND;TZID=Europe/Berlin:20160316T220000
DTSTAMP:20260423T061214
CREATED:20151209T082536Z
LAST-MODIFIED:20151209T082536Z
UID:821-1458156600-1458165600@kar.ruhr
SUMMARY:Medienforum Essen
DESCRIPTION:ZanderFilets\nEine Kulturgeschichte des Christentums in 25 Kabinettstückchen \nLesung und Gespräch mit Hans Conrad Zander \n Zanderfilets
URL:https://kar.ruhr/aktuelles/medienforum-essen-30/
LOCATION:Medienforum des Bistums Essen\, Zwölfling 14\, Essen\, 45127\, Deutschland
ORGANIZER;CN="Medienforum des Bistums Essen":MAILTO:medienforum@bistum-essen.de
END:VEVENT
BEGIN:VEVENT
DTSTART;TZID=Europe/Berlin:20160328T150000
DTEND;TZID=Europe/Berlin:20160328T183000
DTSTAMP:20260423T061214
CREATED:20160322T105756Z
LAST-MODIFIED:20160322T105756Z
UID:934-1459177200-1459189800@kar.ruhr
SUMMARY:KMF-Kongress
DESCRIPTION:Im Wandel\nDie Gemeinschaft katholischer Männer und Frauen (ND-KMF) lädt ein. \nDas Ruhrgebiet ist IM WANDEL\, nicht erst seit gestern. Gemeint ist damit ein struktureller Wandel\, von einer Industrie- zur Dienstleistungsgesellschaft\, aber auch ein Wandel in sozialer\, kultureller und gesellschaftlicher Art. Der KMF-Kongress wird das Revier IM WANDEL vorstellen\, ausdeuten und vor allem auch erlebbar machen. \nEbenfalls IM WANDEL ist unsere Kirche. Während des KMF-Kongresses werden auch kirchliche und religiöse Wandlungsprozesse aufgegriffen\, die etwa das Leben in unseren Pfarrgemeinden maßgeblich verändert haben. \nOstermontag: Eröffnung \nTagungsprogramm im Überblick \ndetailliertes Programmheft \nAnmeldung \n 
URL:https://kar.ruhr/aktuelles/kmf-kongress/
LOCATION:Stadthalle Mülheim\, Theodor-Heuss-Platz 1\, Mülheim a.d.Ruhr\, 45468\, Deutschland
ORGANIZER;CN="ND-KMF _ Gemenschaft Katholischer M%C3%A4nner und Frauen":MAILTO:info@kmf.net
END:VEVENT
BEGIN:VEVENT
DTSTART;TZID=Europe/Berlin:20160329T083000
DTEND;TZID=Europe/Berlin:20160331T183000
DTSTAMP:20260423T061214
CREATED:20160322T110251Z
LAST-MODIFIED:20160322T110422Z
UID:938-1459240200-1459449000@kar.ruhr
SUMMARY:KMF-Kongress
DESCRIPTION:Im Wandel\nDie Gemeinschaft katholischer Männer und Frauen (ND-KMF) lädt ein. \nDas Ruhrgebiet ist IM WANDEL\, nicht erst seit gestern. Gemeint ist damit ein struktureller Wandel\, von einer Industrie- zur Dienstleistungsgesellschaft\, aber auch ein Wandel in sozialer\, kultureller und gesellschaftlicher Art. Der KMF-Kongress wird das Revier IM WANDEL vorstellen\, ausdeuten und vor allem auch erlebbar machen. \nEbenfalls IM WANDEL ist unsere Kirche. Während des KMF-Kongresses werden auch kirchliche und religiöse Wandlungsprozesse aufgegriffen\, die etwa das Leben in unseren Pfarrgemeinden maßgeblich verändert haben. \nOsterwoche: Kongresstage \nTagungsprogramm im Überblick \ndetailliertes Programmheft \nAnmeldung
URL:https://kar.ruhr/aktuelles/kmf-kongress-2/
LOCATION:Stadthalle Mülheim\, Theodor-Heuss-Platz 1\, Mülheim a.d.Ruhr\, 45468\, Deutschland
ORGANIZER;CN="ND-KMF _ Gemenschaft Katholischer M%C3%A4nner und Frauen":MAILTO:info@kmf.net
END:VEVENT
END:VCALENDAR