BEGIN:VCALENDAR
VERSION:2.0
PRODID:-//Katholischer Akademikerverband Ruhr - ECPv6.15.18//NONSGML v1.0//EN
CALSCALE:GREGORIAN
METHOD:PUBLISH
X-ORIGINAL-URL:https://kar.ruhr
X-WR-CALDESC:Veranstaltungen für Katholischer Akademikerverband Ruhr
REFRESH-INTERVAL;VALUE=DURATION:PT1H
X-Robots-Tag:noindex
X-PUBLISHED-TTL:PT1H
BEGIN:VTIMEZONE
TZID:Europe/Berlin
BEGIN:DAYLIGHT
TZOFFSETFROM:+0100
TZOFFSETTO:+0200
TZNAME:CEST
DTSTART:20160327T010000
END:DAYLIGHT
BEGIN:STANDARD
TZOFFSETFROM:+0200
TZOFFSETTO:+0100
TZNAME:CET
DTSTART:20161030T010000
END:STANDARD
BEGIN:DAYLIGHT
TZOFFSETFROM:+0100
TZOFFSETTO:+0200
TZNAME:CEST
DTSTART:20170326T010000
END:DAYLIGHT
BEGIN:STANDARD
TZOFFSETFROM:+0200
TZOFFSETTO:+0100
TZNAME:CET
DTSTART:20171029T010000
END:STANDARD
BEGIN:DAYLIGHT
TZOFFSETFROM:+0100
TZOFFSETTO:+0200
TZNAME:CEST
DTSTART:20180325T010000
END:DAYLIGHT
BEGIN:STANDARD
TZOFFSETFROM:+0200
TZOFFSETTO:+0100
TZNAME:CET
DTSTART:20181028T010000
END:STANDARD
END:VTIMEZONE
BEGIN:VEVENT
DTSTART;TZID=Europe/Berlin:20170117T200000
DTEND;TZID=Europe/Berlin:20170117T220000
DTSTAMP:20260422T163922
CREATED:20170104T094025Z
LAST-MODIFIED:20170104T094025Z
UID:1263-1484683200-1484690400@kar.ruhr
SUMMARY:Auditorium Stiepel
DESCRIPTION:Ethik ohne Gott?\nReferent: Prof. em. Dr. Dr. Jörg Splett \nDer ethische Grundanspruch (I. Kant: der kategorische Imperativ) an jeden Menschen leuchtet schlicht ein. Hier bedarf es keiner Begründung\, auch keiner religiösen. Doch stellen sich an eine Ethik ohne Gott vier Fragen: \n\nWie vertritt sie ein unbedingtes Ja zu jedem Menschen?\nWas sagt sie zur Zukunft des Schuldiggewordenen?\nWie fordert sie zum Rechtsverzicht im Dienst des Miteinanders auf?\nWie hat sie Zugang zur Gemeinschaft auch mit unseren Toten?
URL:https://kar.ruhr/aktuelles/auditorium-stiepel-8/
LOCATION:Kloster Stiepel – Auditorium\, Am Varenholt 9\, Bochum\, 44797
ORGANIZER;CN="Zisterzienserkloster Bochum-Stiepel":MAILTO:info@kloster-stiepel.de
END:VEVENT
BEGIN:VEVENT
DTSTART;TZID=Europe/Berlin:20170119T180000
DTEND;TZID=Europe/Berlin:20170119T200000
DTSTAMP:20260422T163922
CREATED:20170118T110543Z
LAST-MODIFIED:20170118T110543Z
UID:1275-1484848800-1484856000@kar.ruhr
SUMMARY:Ökumenischer Abend
DESCRIPTION:Luther- und Reformationsjahr 2017\n… mit Martin Luther zu einer lebendigen Gemeinschaft \nEs spricht Ruhrbischof Dr. Franz-Josef Overbeck: „…damit sie alle eins seien….“ (Joh. 17\,21) \nLiturgische Leitung: Superintendentin Marion Greve \nModeration: Prof. Dr. med. Hans-Georg Krengel (KAR) \nDatei:\nökumenischer Abend
URL:https://kar.ruhr/aktuelles/oekumenischer-abend-2/
LOCATION:Erlöserkirche\, Friedrichstr. 17\, Essen\, 45127\, Deutschland
END:VEVENT
BEGIN:VEVENT
DTSTART;TZID=Europe/Berlin:20170131T193000
DTEND;TZID=Europe/Berlin:20170131T220000
DTSTAMP:20260422T163922
CREATED:20161118T172700Z
LAST-MODIFIED:20161118T172700Z
UID:1207-1485891000-1485900000@kar.ruhr
SUMMARY:Medienforum
DESCRIPTION:Ist da oben jemand?\nWeil das Leben kein Spaziergang ist \nNähere Informationen siehe: \nIST DA OBEN JEMAND
URL:https://kar.ruhr/aktuelles/medienforum-28/
LOCATION:Medienforum des Bistums Essen\, Zwölfling 14\, Essen\, 45127\, Deutschland
ORGANIZER;CN="Medienforum des Bistums Essen":MAILTO:medienforum@bistum-essen.de
END:VEVENT
END:VCALENDAR