BEGIN:VCALENDAR
VERSION:2.0
PRODID:-//Katholischer Akademikerverband Ruhr - ECPv6.15.18//NONSGML v1.0//EN
CALSCALE:GREGORIAN
METHOD:PUBLISH
X-ORIGINAL-URL:https://kar.ruhr
X-WR-CALDESC:Veranstaltungen für Katholischer Akademikerverband Ruhr
REFRESH-INTERVAL;VALUE=DURATION:PT1H
X-Robots-Tag:noindex
X-PUBLISHED-TTL:PT1H
BEGIN:VTIMEZONE
TZID:Europe/Berlin
BEGIN:DAYLIGHT
TZOFFSETFROM:+0100
TZOFFSETTO:+0200
TZNAME:CEST
DTSTART:20160327T010000
END:DAYLIGHT
BEGIN:STANDARD
TZOFFSETFROM:+0200
TZOFFSETTO:+0100
TZNAME:CET
DTSTART:20161030T010000
END:STANDARD
BEGIN:DAYLIGHT
TZOFFSETFROM:+0100
TZOFFSETTO:+0200
TZNAME:CEST
DTSTART:20170326T010000
END:DAYLIGHT
BEGIN:STANDARD
TZOFFSETFROM:+0200
TZOFFSETTO:+0100
TZNAME:CET
DTSTART:20171029T010000
END:STANDARD
BEGIN:DAYLIGHT
TZOFFSETFROM:+0100
TZOFFSETTO:+0200
TZNAME:CEST
DTSTART:20180325T010000
END:DAYLIGHT
BEGIN:STANDARD
TZOFFSETFROM:+0200
TZOFFSETTO:+0100
TZNAME:CET
DTSTART:20181028T010000
END:STANDARD
END:VTIMEZONE
BEGIN:VEVENT
DTSTART;TZID=Europe/Berlin:20170309T193000
DTEND;TZID=Europe/Berlin:20170309T213000
DTSTAMP:20260422T134755
CREATED:20170210T101817Z
LAST-MODIFIED:20170225T115352Z
UID:1312-1489087800-1489095000@kar.ruhr
SUMMARY:Glaubens-Gespräch
DESCRIPTION:GOTT in der Krise\nLeitung: Prof. DDr. Hans Waldenfels SJ \nDas Glaubensgesprach an St Ignatius\, Essen\, thematisiert in der Fastenzeit die Frage nach Gott heute. \nDie Formulierung „GOTT in der Krise“ ist bewusst doppeldeutig. Es geht einmal um die Krise\, in der sich Menschen heute existentiell befinden. Das Christentum sieht im Glauben an Gott eine Antwort. Doch was sagt man\, wenn ein pensionierter Schulrektor zum Erstaunen seiner Ehefrau sagt: „Ich glaube nicht an Gott.“ \nRückfrage: An welchen Gott glaubt er nicht? An den Gott seiner Kindertage\, den alten Mann mit Bart über den Wolken? Oder lebt er einfach im luftleeren Raum? Längst wird unter nachdenklichen Menschen gefragt: Gibt es wirklich Atheisten\, Menschen\, die wissen\, was sie leugnen\, oder schotten sie sich einfach gegen Frage nach dem\, was kommt\, ab? Fragen muss man auch\, ob die Kirche wirklich das Gespräch mit den Menschen über die Grundfragen des Lebens sucht? \nDas Glaubensgespräch an St. Ignatius in Essen findet wie immer nach der 19\,00 Uhr-Messe\ngegen 19.30 Uhr im Gemeindesaal statt. Der Eintritt ist frei. \nDatei:\nGOTT in der Krise
URL:https://kar.ruhr/aktuelles/glaubens-gespraech-8/
LOCATION:Gemeindesaal An St. Ignatius\, An St. Ignatius 8\, Essen\, 45128\, Deutschland
CATEGORIES:Eigene Veranstaltungen
ORGANIZER;CN="Katholischer Akademikerverband Ruhr e.V.":MAILTO:marc.hubbert.kar@gmail.com
END:VEVENT
BEGIN:VEVENT
DTSTART;TZID=Europe/Berlin:20170314T200000
DTEND;TZID=Europe/Berlin:20170314T220000
DTSTAMP:20260422T134755
CREATED:20170104T094602Z
LAST-MODIFIED:20170104T094602Z
UID:1265-1489521600-1489528800@kar.ruhr
SUMMARY:Auditorium Stiepel
DESCRIPTION:Abrahams Opfer\nReferent: Dr. theol.\, Lic. in re bibl. Pater Dieter Böhler SJ \nDie Erzählung von Abrahams Opfer in Genesis 22 ist für viele Menschen anstößig und schwer erträglich. Wie kann Gott so etwas sagen? Und wie kann ein Vater einem solchen Befehl gehorchen wollen? \nAndererseits ist die Szene von großen Künstlern\, wie z.B. Rembrandt\, wieder und wieder gemalt worden\, weil sie offenbar etwas sehr Bedeutendes dahinter sahen. Für die Juden gehört die „Bindung Isaaks“ zu den Erlösungsgeheimnissen der Paschanacht. Auch die Christen lesen sie in der Osternacht. Der Vortrag zeigt\, was die Erzählung im biblischen Kontext bedeutet.
URL:https://kar.ruhr/aktuelles/auditorium-stiepel-10/
LOCATION:Kloster Stiepel – Auditorium\, Am Varenholt 9\, Bochum\, 44797
ORGANIZER;CN="Zisterzienserkloster Bochum-Stiepel":MAILTO:info@kloster-stiepel.de
END:VEVENT
BEGIN:VEVENT
DTSTART;TZID=Europe/Berlin:20170316T190000
DTEND;TZID=Europe/Berlin:20170316T220000
DTSTAMP:20260422T134755
CREATED:20161118T171810Z
LAST-MODIFIED:20161118T171810Z
UID:1199-1489690800-1489701600@kar.ruhr
SUMMARY:Medienforum
DESCRIPTION:Nettsein ist auch keine Lösung..\nGespräch mit Journalist H. Martenstein \nNähere Informationen siehe: \nNETT SEIN
URL:https://kar.ruhr/aktuelles/medienforum-24/
LOCATION:Medienforum des Bistums Essen\, Zwölfling 14\, Essen\, 45127\, Deutschland
ORGANIZER;CN="Medienforum des Bistums Essen":MAILTO:medienforum@bistum-essen.de
END:VEVENT
BEGIN:VEVENT
DTSTART;TZID=Europe/Berlin:20170321T183000
DTEND;TZID=Europe/Berlin:20170321T220000
DTSTAMP:20260422T134755
CREATED:20161118T172241Z
LAST-MODIFIED:20161118T172241Z
UID:1203-1490121000-1490133600@kar.ruhr
SUMMARY:Medienforum
DESCRIPTION:Amore\, Amore …\nDie schönsten italienischen Liebesgeschichten \nNähere Informationen siehe: \nAMORE
URL:https://kar.ruhr/aktuelles/medienforum-26/
LOCATION:Medienforum des Bistums Essen\, Zwölfling 14\, Essen\, 45127\, Deutschland
ORGANIZER;CN="Medienforum des Bistums Essen":MAILTO:medienforum@bistum-essen.de
END:VEVENT
BEGIN:VEVENT
DTSTART;TZID=Europe/Berlin:20170329T190000
DTEND;TZID=Europe/Berlin:20170329T220000
DTSTAMP:20260422T134755
CREATED:20161118T164944Z
LAST-MODIFIED:20161118T164956Z
UID:1187-1490814000-1490824800@kar.ruhr
SUMMARY:Medienforum
DESCRIPTION:Verzeihen\nVom Umgang mit Schuld \nNähere Informationen siehe: \nDatei:\nVerzeihen
URL:https://kar.ruhr/aktuelles/medienforum-18/
LOCATION:Medienforum des Bistums Essen\, Zwölfling 14\, Essen\, 45127\, Deutschland
ORGANIZER;CN="Medienforum des Bistums Essen":MAILTO:medienforum@bistum-essen.de
END:VEVENT
END:VCALENDAR