BEGIN:VCALENDAR
VERSION:2.0
PRODID:-//Katholischer Akademikerverband Ruhr - ECPv6.15.18//NONSGML v1.0//EN
CALSCALE:GREGORIAN
METHOD:PUBLISH
X-WR-CALNAME:Katholischer Akademikerverband Ruhr
X-ORIGINAL-URL:https://kar.ruhr
X-WR-CALDESC:Veranstaltungen für Katholischer Akademikerverband Ruhr
REFRESH-INTERVAL;VALUE=DURATION:PT1H
X-Robots-Tag:noindex
X-PUBLISHED-TTL:PT1H
BEGIN:VTIMEZONE
TZID:Europe/Berlin
BEGIN:DAYLIGHT
TZOFFSETFROM:+0100
TZOFFSETTO:+0200
TZNAME:CEST
DTSTART:20160327T010000
END:DAYLIGHT
BEGIN:STANDARD
TZOFFSETFROM:+0200
TZOFFSETTO:+0100
TZNAME:CET
DTSTART:20161030T010000
END:STANDARD
BEGIN:DAYLIGHT
TZOFFSETFROM:+0100
TZOFFSETTO:+0200
TZNAME:CEST
DTSTART:20170326T010000
END:DAYLIGHT
BEGIN:STANDARD
TZOFFSETFROM:+0200
TZOFFSETTO:+0100
TZNAME:CET
DTSTART:20171029T010000
END:STANDARD
BEGIN:DAYLIGHT
TZOFFSETFROM:+0100
TZOFFSETTO:+0200
TZNAME:CEST
DTSTART:20180325T010000
END:DAYLIGHT
BEGIN:STANDARD
TZOFFSETFROM:+0200
TZOFFSETTO:+0100
TZNAME:CET
DTSTART:20181028T010000
END:STANDARD
END:VTIMEZONE
BEGIN:VEVENT
DTSTART;TZID=Europe/Berlin:20170404T190000
DTEND;TZID=Europe/Berlin:20170404T220000
DTSTAMP:20260422T121859
CREATED:20161118T170609Z
LAST-MODIFIED:20161118T170624Z
UID:1191-1491332400-1491343200@kar.ruhr
SUMMARY:Medienforum
DESCRIPTION:Der fliegende Teppich\nEine Diagnose der Moderne \nNähere Informationen siehe: \nDER_FLIEGENDE_TEPPICH
URL:https://kar.ruhr/aktuelles/medienforum-20/
LOCATION:Medienforum des Bistums Essen\, Zwölfling 14\, Essen\, 45127\, Deutschland
ORGANIZER;CN="Medienforum des Bistums Essen":MAILTO:medienforum@bistum-essen.de
END:VEVENT
BEGIN:VEVENT
DTSTART;TZID=Europe/Berlin:20170404T200000
DTEND;TZID=Europe/Berlin:20170404T200000
DTSTAMP:20260422T121859
CREATED:20170104T094842Z
LAST-MODIFIED:20170104T094842Z
UID:1266-1491336000-1491336000@kar.ruhr
SUMMARY:Auditorium Stiepel
DESCRIPTION:Katharina von Bora\nReferent: Pater Prof. DDr. Alkuin Schachenmayr OCist \nKatharina von Bora\, die spätere Ehefrau von Martin Luther\, gehört zu den bekanntesten aber auch berüchtigtsten Cistercienserinnen. \nVon der Cistercienserforschung bisher weitestgehend vernachlässigt\, bietet ihre Biographie interessante Einblicke in den Alltag der Cistercienserinnen ihrer Zeit.
URL:https://kar.ruhr/aktuelles/auditorium-stiepel-11/
LOCATION:Kloster Stiepel – Auditorium\, Am Varenholt 9\, Bochum\, 44797
ORGANIZER;CN="Zisterzienserkloster Bochum-Stiepel":MAILTO:info@kloster-stiepel.de
END:VEVENT
BEGIN:VEVENT
DTSTART;TZID=Europe/Berlin:20170406T193000
DTEND;TZID=Europe/Berlin:20170406T220000
DTSTAMP:20260422T121859
CREATED:20161118T172846Z
LAST-MODIFIED:20161118T172846Z
UID:1209-1491507000-1491516000@kar.ruhr
SUMMARY:Medienforum
DESCRIPTION:Die Ehe – ein riskantes Sakrament\nNähere Informationen siehe: \nDIE EHE
URL:https://kar.ruhr/aktuelles/medienforum-29/
LOCATION:Medienforum des Bistums Essen\, Zwölfling 14\, Essen\, 45127\, Deutschland
ORGANIZER;CN="Medienforum des Bistums Essen":MAILTO:medienforum@bistum-essen.de
END:VEVENT
BEGIN:VEVENT
DTSTART;TZID=Europe/Berlin:20170426T181500
DTEND;TZID=Europe/Berlin:20170426T200000
DTSTAMP:20260422T121859
CREATED:20170424T065447Z
LAST-MODIFIED:20170424T065447Z
UID:1377-1493230500-1493236800@kar.ruhr
SUMMARY:Ökumenische Ringvorlesung
DESCRIPTION:Bibelauslegung 19.Jhdt\nReferent: Dr. Martin Gröger\, Köln \nDie Formierung der alttestamentlichen Wissenschaft im 19. Jahrhundert \nBeginn: 18:00 Uhr c.t. im Raum V15 R01 H90 \nDer Eintritt ist frei\, Interessenten sind herzlich willkommen.
URL:https://kar.ruhr/aktuelles/oekumenische-ringvorlesung/
LOCATION:Campus Essen\, Universitätsstrasse 12\, Essen\, 45117\, Deutschland
ORGANIZER;CN="Institut f%C3%BCr Katholische Theologie":MAILTO:pia.gmajner@uni-due.de
END:VEVENT
BEGIN:VEVENT
DTSTART;TZID=Europe/Berlin:20170427T190000
DTEND;TZID=Europe/Berlin:20170427T220000
DTSTAMP:20260422T121859
CREATED:20161118T171534Z
LAST-MODIFIED:20161118T171534Z
UID:1197-1493319600-1493330400@kar.ruhr
SUMMARY:Medienforum
DESCRIPTION:Kabarettist Erwin Grosche\nWie ich mit Gott eine Matratze kaufte….. \nNähere Informationen siehe: \nWIE ICH MIT GOTT
URL:https://kar.ruhr/aktuelles/medienforum-23/
LOCATION:Medienforum des Bistums Essen\, Zwölfling 14\, Essen\, 45127\, Deutschland
ORGANIZER;CN="Medienforum des Bistums Essen":MAILTO:medienforum@bistum-essen.de
END:VEVENT
BEGIN:VEVENT
DTSTART;TZID=Europe/Berlin:20170429T190000
DTEND;TZID=Europe/Berlin:20170429T230000
DTSTAMP:20260422T121859
CREATED:20170104T090503Z
LAST-MODIFIED:20170104T090937Z
UID:1260-1493492400-1493506800@kar.ruhr
SUMMARY:CV Zirkel Essen
DESCRIPTION:125. Stiftungsfest\nFestcommers\n  \n 
URL:https://kar.ruhr/aktuelles/cv-zirkel-essen-2/
LOCATION:Hotel Franz\, Steeler Str. 261\, Essen\, 45138\, Deutschland
ORGANIZER;CN="CV-Zirkel Essen":MAILTO:dominik.stotko@rwe.com
END:VEVENT
BEGIN:VEVENT
DTSTART;TZID=Europe/Berlin:20170430T113000
DTEND;TZID=Europe/Berlin:20170430T140000
DTSTAMP:20260422T121859
CREATED:20170104T090654Z
LAST-MODIFIED:20170104T090841Z
UID:1262-1493551800-1493560800@kar.ruhr
SUMMARY:CV Zirkel Essen
DESCRIPTION:125. Stiftungsfest\, Festmesse\nZelebrant:  Cartellbruder Prof. Dr. Markus Tiwald\, Lehrstuhl Neues Testament\, Institut für Katholische Theologie\, Universität Duisburg-Essen \nAnschließend bittet der CV Zirkel ESSEN zu einem feierlichen Empfang in das Hotel Franz.
URL:https://kar.ruhr/aktuelles/cv-zirkel-essen-3/
LOCATION:Hotel Franz\, Steeler Str. 261\, Essen\, 45138\, Deutschland
ORGANIZER;CN="CV-Zirkel Essen":MAILTO:dominik.stotko@rwe.com
END:VEVENT
END:VCALENDAR