BEGIN:VCALENDAR
VERSION:2.0
PRODID:-//Katholischer Akademikerverband Ruhr - ECPv6.15.18//NONSGML v1.0//EN
CALSCALE:GREGORIAN
METHOD:PUBLISH
X-WR-CALNAME:Katholischer Akademikerverband Ruhr
X-ORIGINAL-URL:https://kar.ruhr
X-WR-CALDESC:Veranstaltungen für Katholischer Akademikerverband Ruhr
REFRESH-INTERVAL;VALUE=DURATION:PT1H
X-Robots-Tag:noindex
X-PUBLISHED-TTL:PT1H
BEGIN:VTIMEZONE
TZID:Europe/Berlin
BEGIN:DAYLIGHT
TZOFFSETFROM:+0100
TZOFFSETTO:+0200
TZNAME:CEST
DTSTART:20160327T010000
END:DAYLIGHT
BEGIN:STANDARD
TZOFFSETFROM:+0200
TZOFFSETTO:+0100
TZNAME:CET
DTSTART:20161030T010000
END:STANDARD
BEGIN:DAYLIGHT
TZOFFSETFROM:+0100
TZOFFSETTO:+0200
TZNAME:CEST
DTSTART:20170326T010000
END:DAYLIGHT
BEGIN:STANDARD
TZOFFSETFROM:+0200
TZOFFSETTO:+0100
TZNAME:CET
DTSTART:20171029T010000
END:STANDARD
BEGIN:DAYLIGHT
TZOFFSETFROM:+0100
TZOFFSETTO:+0200
TZNAME:CEST
DTSTART:20180325T010000
END:DAYLIGHT
BEGIN:STANDARD
TZOFFSETFROM:+0200
TZOFFSETTO:+0100
TZNAME:CET
DTSTART:20181028T010000
END:STANDARD
END:VTIMEZONE
BEGIN:VEVENT
DTSTART;TZID=Europe/Berlin:20170604T090000
DTEND;TZID=Europe/Berlin:20170604T110000
DTSTAMP:20260420T165233
CREATED:20170524T133620Z
LAST-MODIFIED:20170524T133620Z
UID:1399-1496566800-1496574000@kar.ruhr
SUMMARY:Unitas Zirkel Essen
DESCRIPTION:Vereinsfest zu Ehren des Hl. Bonifatius \nin der Bailika Werden; \nChoralamt um 9:00 Uhr s.t. \nNähere Auskünfte bei M. Gewiese\, Tel. 0201 403833 \n  \n 
URL:https://kar.ruhr/aktuelles/unitas-zirkel-essen/
LOCATION:Basiklika St. Ludgerus\, Brückstrasse 52\, Essen\, 45239\, Deutschland
ORGANIZER;CN="Unitas Zirkel Essen":MAILTO:m.gewiese@gmx.de
END:VEVENT
BEGIN:VEVENT
DTSTART;TZID=Europe/Berlin:20170607T181500
DTEND;TZID=Europe/Berlin:20170607T200000
DTSTAMP:20260420T165233
CREATED:20170424T070920Z
LAST-MODIFIED:20170424T071305Z
UID:1382-1496859300-1496865600@kar.ruhr
SUMMARY:Ökumenische Ringvorlesung
DESCRIPTION:Luther 2017 kontrovers\nReferent: Dr. Sebastian Eck\, Institut für kath. Theologie\, Uni DuE \nLuther 2017 darf auch kontrovers sein – Der Beitrag der Historischen Theologie zum Reformationsjubiläum \nBeginn: 18:00 Uhr c.t. im Raum V15 R01 H90 \nDer Eintritt ist frei\, Interessenten sind herzlich willkommen.
URL:https://kar.ruhr/aktuelles/oekumenische-ringvorlesung-5/
LOCATION:Campus Essen\, Universitätsstrasse 12\, Essen\, 45117\, Deutschland
ORGANIZER;CN="Institut f%C3%BCr Katholische Theologie":MAILTO:pia.gmajner@uni-due.de
END:VEVENT
BEGIN:VEVENT
DTSTART;TZID=Europe/Berlin:20170608T193000
DTEND;TZID=Europe/Berlin:20170608T210000
DTSTAMP:20260420T165233
CREATED:20170515T074911Z
LAST-MODIFIED:20170601T110328Z
UID:1394-1496950200-1496955600@kar.ruhr
SUMMARY:Glaubens-Gespräch
DESCRIPTION:Christl. Flüchtlingshilfe\nWas motiviert Christen\, Flüchtlingen zu helfen? \nLeitung: Prof. DDr. Hans Waldenfels SJ \nReferent: P. Ludger Hillebrand SJ \nPater Hillebrand arbeitet im Abuna Frans Haus. \nBeginn:  19:00 Uhr hl. Messe St. Ignatius\, 19:30 Uhr Glaubensgespräch im Pfarrsaal \n(Offener Kreis) \nDatei:\nGLAUBENSGESPRÄCH 06-17 \n 
URL:https://kar.ruhr/aktuelles/glaubens-gespraech-10/
LOCATION:Gemeindesaal An St. Ignatius\, An St. Ignatius 8\, Essen\, 45128\, Deutschland
CATEGORIES:Eigene Veranstaltungen
ORGANIZER;CN="Katholischer Akademikerverband Ruhr e.V.":MAILTO:marc.hubbert.kar@gmail.com
END:VEVENT
BEGIN:VEVENT
DTSTART;TZID=Europe/Berlin:20170614T181500
DTEND;TZID=Europe/Berlin:20170614T200000
DTSTAMP:20260420T165233
CREATED:20170424T071532Z
LAST-MODIFIED:20170424T071615Z
UID:1384-1497464100-1497470400@kar.ruhr
SUMMARY:Ökumenische Ringvorlesung
DESCRIPTION:Freiheit des Christenmenschen\nReferent: Prof. Dr. Ralf Miggelbrink\, Institut für kath. Theologie\, Uni DuE \nWie frei ist der Christenmensch? Freiheitstheologische Fragen anlässlich des Reformationsgedenkens \nBeginn: 18:00 Uhr c.t. im Raum V15 R01 H90 \nDer Eintritt ist frei\, Interessenten sind herzlich willkommen.
URL:https://kar.ruhr/aktuelles/oekumenische-ringvorlesung-6/
LOCATION:Campus Essen\, Universitätsstrasse 12\, Essen\, 45117\, Deutschland
ORGANIZER;CN="Institut f%C3%BCr Katholische Theologie":MAILTO:pia.gmajner@uni-due.de
END:VEVENT
BEGIN:VEVENT
DTSTART;TZID=Europe/Berlin:20170620T200000
DTEND;TZID=Europe/Berlin:20170620T220000
DTSTAMP:20260420T165233
CREATED:20170104T095148Z
LAST-MODIFIED:20170104T095148Z
UID:1267-1497988800-1497996000@kar.ruhr
SUMMARY:Auditorium Stiepel
DESCRIPTION:Kath. Kirche in Dänemark\nReferent: Exzellenz Bischof Czeslaw Kozon \nDänemark ist den meisten als ein Urlaubsland gut bekannt. Unter den 6 Millionen Einwohnern gibt es fast 40.000 Katholiken. Hier handelt es sich also um eine Diasporasituation. \nDas Gespräch mit Bischof Czeslaw soll einen Eindruck von der Glaubenslage in Dänemark geben und welche Herausforderung sich an eine kleine Glaubensgemeinschaft stellen. Dabei werden wir viel von Land und Leuten erfahren.
URL:https://kar.ruhr/aktuelles/auditorium-stiepel-12/
LOCATION:Kloster Stiepel – Auditorium\, Am Varenholt 9\, Bochum\, 44797
ORGANIZER;CN="Zisterzienserkloster Bochum-Stiepel":MAILTO:info@kloster-stiepel.de
END:VEVENT
BEGIN:VEVENT
DTSTART;TZID=Europe/Berlin:20170621T181500
DTEND;TZID=Europe/Berlin:20170621T200000
DTSTAMP:20260420T165233
CREATED:20170424T072055Z
LAST-MODIFIED:20170424T072055Z
UID:1385-1498068900-1498075200@kar.ruhr
SUMMARY:Ökumenische Ringvorlesung
DESCRIPTION:Reformation und Frauenrecht\nReferentin: PD Dr. Susanne Hennecke\, Institut für evangel. Theologie\, Uni DuE \n  \nBeginn: 18:00 Uhr c.t. im Raum V15 R01 H90 \nDer Eintritt ist frei\, Interessenten sind herzlich willkommen.
URL:https://kar.ruhr/aktuelles/oekumenische-ringvorlesung-7/
LOCATION:Campus Essen\, Universitätsstrasse 12\, Essen\, 45117\, Deutschland
ORGANIZER;CN="Institut f%C3%BCr Katholische Theologie":MAILTO:pia.gmajner@uni-due.de
END:VEVENT
BEGIN:VEVENT
DTSTART;TZID=Europe/Berlin:20170622T173000
DTEND;TZID=Europe/Berlin:20170622T210000
DTSTAMP:20260420T165233
CREATED:20170220T180122Z
LAST-MODIFIED:20170220T180314Z
UID:1326-1498152600-1498165200@kar.ruhr
SUMMARY:KAR MGV 2017
DESCRIPTION:KAR-Mitgliederversammlung 2017\n17:30 hl Messe\, Anbetungskirche\, Zelebrant Prof. Dr. Markus Tiwald \n18:30 Altfridsaal\,  Dompropstei
URL:https://kar.ruhr/aktuelles/kar-mgv-2017/
LOCATION:Hoher Dom zu Essen
CATEGORIES:Eigene Veranstaltungen
ORGANIZER;CN="Katholischer Akademikerverband Ruhr e.V.":MAILTO:marc.hubbert.kar@gmail.com
END:VEVENT
BEGIN:VEVENT
DTSTART;TZID=Europe/Berlin:20170625T100000
DTEND;TZID=Europe/Berlin:20170625T210000
DTSTAMP:20260420T165233
CREATED:20170623T093123Z
LAST-MODIFIED:20170623T093123Z
UID:1439-1498384800-1498424400@kar.ruhr
SUMMARY:Gemeindefest
DESCRIPTION:Gemeindefest St. Getrud\nDatei:\nGemeindefest St Getrud
URL:https://kar.ruhr/aktuelles/gemeindefest/
LOCATION:Gemeinde St. Getrud\, Viehofer Platz\, Essen\, Deutschland
END:VEVENT
END:VCALENDAR