BEGIN:VCALENDAR
VERSION:2.0
PRODID:-//Katholischer Akademikerverband Ruhr - ECPv6.15.18//NONSGML v1.0//EN
CALSCALE:GREGORIAN
METHOD:PUBLISH
X-ORIGINAL-URL:https://kar.ruhr
X-WR-CALDESC:Veranstaltungen für Katholischer Akademikerverband Ruhr
REFRESH-INTERVAL;VALUE=DURATION:PT1H
X-Robots-Tag:noindex
X-PUBLISHED-TTL:PT1H
BEGIN:VTIMEZONE
TZID:Europe/Berlin
BEGIN:DAYLIGHT
TZOFFSETFROM:+0100
TZOFFSETTO:+0200
TZNAME:CEST
DTSTART:20160327T010000
END:DAYLIGHT
BEGIN:STANDARD
TZOFFSETFROM:+0200
TZOFFSETTO:+0100
TZNAME:CET
DTSTART:20161030T010000
END:STANDARD
BEGIN:DAYLIGHT
TZOFFSETFROM:+0100
TZOFFSETTO:+0200
TZNAME:CEST
DTSTART:20170326T010000
END:DAYLIGHT
BEGIN:STANDARD
TZOFFSETFROM:+0200
TZOFFSETTO:+0100
TZNAME:CET
DTSTART:20171029T010000
END:STANDARD
BEGIN:DAYLIGHT
TZOFFSETFROM:+0100
TZOFFSETTO:+0200
TZNAME:CEST
DTSTART:20180325T010000
END:DAYLIGHT
BEGIN:STANDARD
TZOFFSETFROM:+0200
TZOFFSETTO:+0100
TZNAME:CET
DTSTART:20181028T010000
END:STANDARD
END:VTIMEZONE
BEGIN:VEVENT
DTSTART;TZID=Europe/Berlin:20171012T193000
DTEND;TZID=Europe/Berlin:20171012T213000
DTSTAMP:20260420T110837
CREATED:20170928T083212Z
LAST-MODIFIED:20170930T091847Z
UID:1532-1507836600-1507843800@kar.ruhr
SUMMARY:Glaubens-Gespräch
DESCRIPTION:Sakramente\nWas machen wir mit den Sakramenten der Kirche? \nGesprächsleiter: Prof. DDr. Hans Waldenfels SJ \nVorab feiern wir um 19:00 Uhr in der Kirche nebenan die hl. Messe. \nDer Freiburger Religionssoziologe Michael N. Ebertz sieht die deutsche Kirche auf dem Weg von einer Pastoralkirche zur Sozialkirche\, einer Glaubensgemeinschaft zur öffentlichen Dienstleisterin vor allem im caritativen Bereich\, mit Kitas\, Krankenhäusern und Pflegeheimen. \nGottesdiensträume verlieren ihre Bedeutung. Die Zahl der Taufen nimmt ohnehin ab. „Messe“ ist für viele Menschen längst zur Bezeichnung für jedwede Art von Gottesdienst geworden. Beichte und Krankensammlung fallen mehr und mehr aufgrund fehlender Priester aus. \nEs stellt sich ganz allgemein die Frage nach dem Sinn des Sakramentalen und der Sakramente. Im Glaubensgespräch an St. Ignatius in Essen geht es im Oktober um die Frage: Was machen wir in der Kirche noch mit den Sakramenten? \nDatei:\nSakramente – was machen wir damit?
URL:https://kar.ruhr/aktuelles/glaubens-gespraech-12/
LOCATION:Gemeindesaal An St. Ignatius\, An St. Ignatius 8\, Essen\, 45128\, Deutschland
CATEGORIES:Eigene Veranstaltungen
ORGANIZER;CN="Katholischer Akademikerverband Ruhr e.V.":MAILTO:marc.hubbert.kar@gmail.com
END:VEVENT
BEGIN:VEVENT
DTSTART;TZID=Europe/Berlin:20171016T193000
DTEND;TZID=Europe/Berlin:20171016T213000
DTSTAMP:20260420T110837
CREATED:20170930T091212Z
LAST-MODIFIED:20170930T091449Z
UID:1535-1508182200-1508189400@kar.ruhr
SUMMARY:Im Gespräch
DESCRIPTION:Wann\, wenn nicht jetzt?\nBuchvorstellung im Gemeindesaal St. Ludgerus Gelsenkirchen – Buer \nReferent und Autor: Prof. DDr. Hans Waldenfels SJ \nDatei:\nBuch Waldenfels \n 
URL:https://kar.ruhr/aktuelles/im-gespraech/
LOCATION:Gemeindesaal St Ludgerus\, Ludgeristr. 5\, Gelsenkirchen-Buer\, 45897\, Deutschland
CATEGORIES:Eigene Veranstaltungen
ORGANIZER;CN="Katholischer Akademikerverband Ruhr e.V.":MAILTO:marc.hubbert.kar@gmail.com
END:VEVENT
BEGIN:VEVENT
DTSTART;TZID=Europe/Berlin:20171019T153000
DTEND;TZID=Europe/Berlin:20171019T173000
DTSTAMP:20260420T110837
CREATED:20170917T095110Z
LAST-MODIFIED:20170917T095311Z
UID:1517-1508427000-1508434200@kar.ruhr
SUMMARY:KV Essen
DESCRIPTION:Fürstin-Franziska-Christine-Stiftung\nFührung: Herr Vogt \n15:20 Uhr: Eintreffen Steeler Straße 642 (Eingang links des Kirchenportals) \nAnmelden bei Dr. U. Rehlinghaus 0201-494848
URL:https://kar.ruhr/aktuelles/kv-essen-2/
LOCATION:FFC-Stiftung in Essen-Steele\, Paßstrasse 2\, Essen\, 45276\, Deutschland
END:VEVENT
BEGIN:VEVENT
DTSTART;TZID=Europe/Berlin:20171019T193000
DTEND;TZID=Europe/Berlin:20171019T213000
DTSTAMP:20260420T110837
CREATED:20170611T081400Z
LAST-MODIFIED:20170611T081451Z
UID:1415-1508441400-1508448600@kar.ruhr
SUMMARY:Medienforum
DESCRIPTION:Evangelio\nReferent: Feridun Zaimoglu\, Jhg. 1964\, Anatolien\, seit 45 in Deutschland; Journalist \nDie Übersetzung der Bibel ins Deutsche durch Martin Luther\, erzählt aus der Perspektive des Landsknechtes Burkhardt. \nDatei:\nEvangelio \n 
URL:https://kar.ruhr/aktuelles/medienforum-30/
LOCATION:Medienforum des Bistums Essen\, Zwölfling 14\, Essen\, 45127\, Deutschland
ORGANIZER;CN="Medienforum des Bistums Essen":MAILTO:medienforum@bistum-essen.de
END:VEVENT
END:VCALENDAR