BEGIN:VCALENDAR
VERSION:2.0
PRODID:-//Katholischer Akademikerverband Ruhr - ECPv6.15.18//NONSGML v1.0//EN
CALSCALE:GREGORIAN
METHOD:PUBLISH
X-WR-CALNAME:Katholischer Akademikerverband Ruhr
X-ORIGINAL-URL:https://kar.ruhr
X-WR-CALDESC:Veranstaltungen für Katholischer Akademikerverband Ruhr
REFRESH-INTERVAL;VALUE=DURATION:PT1H
X-Robots-Tag:noindex
X-PUBLISHED-TTL:PT1H
BEGIN:VTIMEZONE
TZID:Europe/Berlin
BEGIN:DAYLIGHT
TZOFFSETFROM:+0100
TZOFFSETTO:+0200
TZNAME:CEST
DTSTART:20160327T010000
END:DAYLIGHT
BEGIN:STANDARD
TZOFFSETFROM:+0200
TZOFFSETTO:+0100
TZNAME:CET
DTSTART:20161030T010000
END:STANDARD
BEGIN:DAYLIGHT
TZOFFSETFROM:+0100
TZOFFSETTO:+0200
TZNAME:CEST
DTSTART:20170326T010000
END:DAYLIGHT
BEGIN:STANDARD
TZOFFSETFROM:+0200
TZOFFSETTO:+0100
TZNAME:CET
DTSTART:20171029T010000
END:STANDARD
BEGIN:DAYLIGHT
TZOFFSETFROM:+0100
TZOFFSETTO:+0200
TZNAME:CEST
DTSTART:20180325T010000
END:DAYLIGHT
BEGIN:STANDARD
TZOFFSETFROM:+0200
TZOFFSETTO:+0100
TZNAME:CET
DTSTART:20181028T010000
END:STANDARD
END:VTIMEZONE
BEGIN:VEVENT
DTSTART;TZID=Europe/Berlin:20171107T193000
DTEND;TZID=Europe/Berlin:20171107T220000
DTSTAMP:20260420T092830
CREATED:20170611T085118Z
LAST-MODIFIED:20170611T085118Z
UID:1432-1510083000-1510092000@kar.ruhr
SUMMARY:Medienforum
DESCRIPTION:Gravuren in der Zeit\nGespräch zum Buch: „NachGott – Glaubens- und Unglaubensversuche“ \nReferenten: Marcus Minten\, Mülheim – Thomas Holtbernd\, Bottrop \nDatei\nNach-Gott
URL:https://kar.ruhr/aktuelles/medienforum-38/
LOCATION:Medienforum des Bistums Essen\, Zwölfling 14\, Essen\, 45127\, Deutschland
ORGANIZER;CN="Medienforum des Bistums Essen":MAILTO:medienforum@bistum-essen.de
END:VEVENT
BEGIN:VEVENT
DTSTART;TZID=Europe/Berlin:20171109T190000
DTEND;TZID=Europe/Berlin:20171109T213000
DTSTAMP:20260420T092830
CREATED:20171025T115555Z
LAST-MODIFIED:20171025T115555Z
UID:1547-1510254000-1510263000@kar.ruhr
SUMMARY:Glaubens-Gespräch
DESCRIPTION:Lutherjahr: Was hat es gebracht?\nReferent u. Moderator: Prof. DDr. Hans Waldenfels SJ \nDatei:\nWas hat das Lutherjahr gebracht?
URL:https://kar.ruhr/aktuelles/glaubens-gespraech-13/
LOCATION:Gemeindesaal An St. Ignatius\, An St. Ignatius 8\, Essen\, 45128\, Deutschland
CATEGORIES:Eigene Veranstaltungen
ORGANIZER;CN="Katholischer Akademikerverband Ruhr e.V.":MAILTO:marc.hubbert.kar@gmail.com
END:VEVENT
BEGIN:VEVENT
DTSTART;TZID=Europe/Berlin:20171115T180000
DTEND;TZID=Europe/Berlin:20171115T220000
DTSTAMP:20260420T092830
CREATED:20170917T081905Z
LAST-MODIFIED:20170917T083400Z
UID:1504-1510768800-1510783200@kar.ruhr
SUMMARY:AMT 2017
DESCRIPTION:Albertus Magnus-Tag 2017\nDie katholischen akademischen Verbände im Bistum Essen laden herzlich ein! \nFestgottesdienst: Prof. em. Prälat Dr. Wendelin Knoch (Zelebrant) \nTagung im Hotel Franz: \n\nFrau Dr. Chrstiane Florin (Festvortrag: „Weiberaufstand“)\,\nOStDrin i.K. Dr. Christiane Schmidt (Moderation)\nEssener Madrigalchor (musikalische Begleitung)\n\nEintritt 15\,– EUR; Anmeldung erforderlich (z.B. Geschäftsstelle KAR) \nDatei:\nProgramm AMT 2017
URL:https://kar.ruhr/aktuelles/amt-2017/
LOCATION:Hotel Franz\, Steeler Str. 261\, Essen\, 45138\, Deutschland
CATEGORIES:Eigene Veranstaltungen
ATTACH;FMTTYPE=image/jpeg:https://kar.ruhr/wp-content/uploads/2017/09/AMT-2017-Bild.jpg
ORGANIZER;CN="Katholischer Akademikerverband Ruhr e.V.":MAILTO:marc.hubbert.kar@gmail.com
END:VEVENT
BEGIN:VEVENT
DTSTART;TZID=Europe/Berlin:20171128T193000
DTEND;TZID=Europe/Berlin:20171128T220000
DTSTAMP:20260420T092830
CREATED:20170611T083005Z
LAST-MODIFIED:20170611T083046Z
UID:1419-1511897400-1511906400@kar.ruhr
SUMMARY:Medienforum
DESCRIPTION:Kirche als Moralagentur?\nLesung: Hans Joas\, Sozialwissenschaftler \nGesprächspartner: Dr. Michael Dörnemann\, Genervikariat Essen\, Leiter Dez. 1 \nModeration: Vera Steinkamp\, Leiterin Medienforum \nDatei\nMoralagentur Kirche \n  \n 
URL:https://kar.ruhr/aktuelles/medienforum-32/
LOCATION:Medienforum des Bistums Essen\, Zwölfling 14\, Essen\, 45127\, Deutschland
ORGANIZER;CN="Medienforum des Bistums Essen":MAILTO:medienforum@bistum-essen.de
END:VEVENT
END:VCALENDAR