BEGIN:VCALENDAR
VERSION:2.0
PRODID:-//Katholischer Akademikerverband Ruhr - ECPv6.15.18//NONSGML v1.0//EN
CALSCALE:GREGORIAN
METHOD:PUBLISH
X-ORIGINAL-URL:https://kar.ruhr
X-WR-CALDESC:Veranstaltungen für Katholischer Akademikerverband Ruhr
REFRESH-INTERVAL;VALUE=DURATION:PT1H
X-Robots-Tag:noindex
X-PUBLISHED-TTL:PT1H
BEGIN:VTIMEZONE
TZID:Europe/Berlin
BEGIN:DAYLIGHT
TZOFFSETFROM:+0100
TZOFFSETTO:+0200
TZNAME:CEST
DTSTART:20160327T010000
END:DAYLIGHT
BEGIN:STANDARD
TZOFFSETFROM:+0200
TZOFFSETTO:+0100
TZNAME:CET
DTSTART:20161030T010000
END:STANDARD
BEGIN:DAYLIGHT
TZOFFSETFROM:+0100
TZOFFSETTO:+0200
TZNAME:CEST
DTSTART:20170326T010000
END:DAYLIGHT
BEGIN:STANDARD
TZOFFSETFROM:+0200
TZOFFSETTO:+0100
TZNAME:CET
DTSTART:20171029T010000
END:STANDARD
BEGIN:DAYLIGHT
TZOFFSETFROM:+0100
TZOFFSETTO:+0200
TZNAME:CEST
DTSTART:20180325T010000
END:DAYLIGHT
BEGIN:STANDARD
TZOFFSETFROM:+0200
TZOFFSETTO:+0100
TZNAME:CET
DTSTART:20181028T010000
END:STANDARD
END:VTIMEZONE
BEGIN:VEVENT
DTSTART;TZID=Europe/Berlin:20171205T193000
DTEND;TZID=Europe/Berlin:20171205T220000
DTSTAMP:20260420T074143
CREATED:20170611T083236Z
LAST-MODIFIED:20170611T083405Z
UID:1421-1512502200-1512511200@kar.ruhr
SUMMARY:Medienforum
DESCRIPTION:Tage mit Gott verbracht\nLesung: Axel Hacke\, Journalist\, Kolumnist \nEine Wundertüte voll verschiedenster Geschichten \nDatei\nTage mit Gott
URL:https://kar.ruhr/aktuelles/medienforum-33/
LOCATION:Medienforum des Bistums Essen\, Zwölfling 14\, Essen\, 45127\, Deutschland
ORGANIZER;CN="Medienforum des Bistums Essen":MAILTO:medienforum@bistum-essen.de
END:VEVENT
BEGIN:VEVENT
DTSTART;TZID=Europe/Berlin:20171212T193000
DTEND;TZID=Europe/Berlin:20171212T220000
DTSTAMP:20260420T074143
CREATED:20170611T083721Z
LAST-MODIFIED:20170611T083739Z
UID:1424-1513107000-1513116000@kar.ruhr
SUMMARY:Medienforum
DESCRIPTION:Lust aufs Wort\nDie neue Einheitsübersetzung der Bibel entdecken! \nLesung: Maria Wolf\, Bochum \nUnter Mitwirkung von: Dr. Herbert Fendrich (Einführung) und Dr. Klaus Kleffner (Impulse) \nDatei\nLust_aufs_Wort
URL:https://kar.ruhr/aktuelles/medienforum-34/
LOCATION:Medienforum des Bistums Essen\, Zwölfling 14\, Essen\, 45127\, Deutschland
ORGANIZER;CN="Medienforum des Bistums Essen":MAILTO:medienforum@bistum-essen.de
END:VEVENT
BEGIN:VEVENT
DTSTART;TZID=Europe/Berlin:20171214T193000
DTEND;TZID=Europe/Berlin:20171214T220000
DTSTAMP:20260420T074143
CREATED:20170611T081919Z
LAST-MODIFIED:20170611T082351Z
UID:1417-1513279800-1513288800@kar.ruhr
SUMMARY:Medienforum
DESCRIPTION:Gypsy meets Christmas\nEs spielt: New Joscho Stephan Quartett \nGängigen Weihnachtsmelodien werden neu Interpretiert. Es erwartet Sie ein wunderbarer Konzertabend. \nDatei:\nChristmas_Swing \n 
URL:https://kar.ruhr/aktuelles/medienforum-31/
LOCATION:Medienforum des Bistums Essen\, Zwölfling 14\, Essen\, 45127\, Deutschland
ORGANIZER;CN="Medienforum des Bistums Essen":MAILTO:medienforum@bistum-essen.de
END:VEVENT
END:VCALENDAR