BEGIN:VCALENDAR
VERSION:2.0
PRODID:-//Katholischer Akademikerverband Ruhr - ECPv6.15.18//NONSGML v1.0//EN
CALSCALE:GREGORIAN
METHOD:PUBLISH
X-ORIGINAL-URL:https://kar.ruhr
X-WR-CALDESC:Veranstaltungen für Katholischer Akademikerverband Ruhr
REFRESH-INTERVAL;VALUE=DURATION:PT1H
X-Robots-Tag:noindex
X-PUBLISHED-TTL:PT1H
BEGIN:VTIMEZONE
TZID:Europe/Berlin
BEGIN:DAYLIGHT
TZOFFSETFROM:+0100
TZOFFSETTO:+0200
TZNAME:CEST
DTSTART:20170326T010000
END:DAYLIGHT
BEGIN:STANDARD
TZOFFSETFROM:+0200
TZOFFSETTO:+0100
TZNAME:CET
DTSTART:20171029T010000
END:STANDARD
BEGIN:DAYLIGHT
TZOFFSETFROM:+0100
TZOFFSETTO:+0200
TZNAME:CEST
DTSTART:20180325T010000
END:DAYLIGHT
BEGIN:STANDARD
TZOFFSETFROM:+0200
TZOFFSETTO:+0100
TZNAME:CET
DTSTART:20181028T010000
END:STANDARD
BEGIN:DAYLIGHT
TZOFFSETFROM:+0100
TZOFFSETTO:+0200
TZNAME:CEST
DTSTART:20190331T010000
END:DAYLIGHT
BEGIN:STANDARD
TZOFFSETFROM:+0200
TZOFFSETTO:+0100
TZNAME:CET
DTSTART:20191027T010000
END:STANDARD
END:VTIMEZONE
BEGIN:VEVENT
DTSTART;TZID=Europe/Berlin:20180610T180000
DTEND;TZID=Europe/Berlin:20180610T210000
DTSTAMP:20260419T230622
CREATED:20180522T094820Z
LAST-MODIFIED:20180522T094820Z
UID:1642-1528653600-1528664400@kar.ruhr
SUMMARY:1968 - Verzauberung der Welt
DESCRIPTION:Das Jahr 1968 markiert einen kulturellen Aufbruch\, der seinesgleichen sucht. Zeithistoriker sehen hier eine Zäsur\, sie bis heute nachwirkt. Das sich selbst bestimmende und Rechte ein-\nfordernde Individuum tritt in den Vordergrund. Authentizität wird zu einer zentralen Forderung\nan alle gesellschaftlichen Akteure. Neue Gemeinschaftsformen entstehen\, von der Kommune 1\nbis zu WGs auf dem Lande. Inwieweit prägen uns diese kulturellen Impulse noch heute? \n  \nReferent: Prof. Dr. Sven Reichardt\, Konstanz
URL:https://kar.ruhr/aktuelles/1968-verzauberung-der-welt/
LOCATION:Forum Kreuzeskirche\, Kreuzeskirchstr. 16\, Essen\, 45127\, Deutschland
END:VEVENT
END:VCALENDAR